BEGIN:VCALENDAR
PRODID:NingEventWidget-v1
VERSION:2.0
METHOD:PUBLISH
BEGIN:VTIMEZONE
TZID:America/Los_Angeles
X-LIC-LOCATION:America/Los_Angeles
BEGIN:DAYLIGHT
TZOFFSETFROM:-0800
TZOFFSETTO:-0700
TZNAME:PDT
DTSTART:19700308T020000
RRULE:FREQ=YEARLY;BYMONTH=3;BYDAY=2SU
END:DAYLIGHT
BEGIN:STANDARD
TZOFFSETFROM:-0700
TZOFFSETTO:-0800
TZNAME:PST
DTSTART:19701101T020000
RRULE:FREQ=YEARLY;BYMONTH=11;BYDAY=1SU
END:STANDARD
END:VTIMEZONE
BEGIN:VEVENT
UID:5727801:Event:58683
DTSTAMP:20260421T102345Z
SUMMARY:Your Brand New Source For Leads, Funding And Deals?
DESCRIPTION:Don't Miss the Full Day Workshop!\n\nHow To Quickly Start 
 Using LinkedIn To Generate Leads, Secure New Funding Sources And Acces
 s The Deals You're Looking For...Even If You're Technologically Challe
 nged And Haven't Logged Into LinkedIn In Years  What would it be like 
 if you had a new way of generating leads, accessing capital and findin
 g off-market deals that most investors are still completely clueless a
 bout?\nOur Instructor is Internationally Recognized as being one of th
 e foremost authorities on what he does and has high-end clients all ar
 ound the world.\nAuthor Yakov Savitskiy (A.K.A. Yakov Smart) and I are
  teaming up for a live in person FULL DAY INTERACTIVE Workshop EVENT o
 n Friday 5-10-2019 where you’ll discover; “How To Quickly Start Us
 ing LinkedIn To Generate Leads, Secure New Funding Sources And Access 
 The Deals You’re Looking For...Even If You’re Technologically Chal
 lenged And Haven’t Logged Into LinkedIn In Years”\nYou can CLICK H
 ERE to reserve your spot now.\nNow in case you didn’t know, LinkedIn
  has over half a BILLION users world wide who have an average househol
 d income of over $115,000. And even though most investors have LinkedI
 n profiles, they still have no idea how to tap into this potential gol
 dmine of leads, capital and deals. Instead they log-in from time to ti
 me without paying much attention and without realizing that a potentia
 l lead and deal generating machine is sitting right under their noses.
 \nStop letting that be you!\nThis is a whole new way for you to start 
 using LinkedIn and your chance to get in on untapped strategies most r
 eal estate investors still haven’t even heard of yet.\nLUNCH will be
  Provided!\nFeaturing Special Guest:  Internationally Recognized Linke
 dIn Expert\nAnd Author Yakov Smart\nHere is What You’ll Learn and an
 d also implement During This Hands on All day Interactive Workshop Tra
 ining Friday 5-10-2019:\nHidden Keys For Capitalizing On LinkedIn's Mo
 st Recent Changes And Gaining Massive Visibility In Your Desired Real 
 Estate Market...All Without Paying For Additional Advertising Or Searc
 h Engine Optimization\n● How To Build Highly Targeted Lists Of Poten
 tial Funding And Deal Sources On LinkedIn Within Minutes\n● The #1 Q
 uestion Every Investor Should Be Asking Themselves When It Comes To Th
 eir LinkedIn Profile... HINT: It's Probably NOT What You Think\n● A 
 Revolutionary Marketing System Any Investor Can Start Using On LinkedI
 n Immediately For Generating Leads, Securing Funding Sources, And Acce
 ssing The Deals They're Looking For\nDO NOT MISS THIS VERY  INFORMATIV
 E AND INTERACTIVE ALL DAY WORKSHOP EVENT\nNow in case you’re wonderi
 ng, business owners routinely pay premium fees to attend Yakov’s wor
 kshops or even receive his insights. Yet as a member of our BAWB and R
 ealty 411community, you’ll get to attend this FULL DAY Workshop. BUT
  we ONLY have a few seats left. Don't Wait Register and reserve your s
 pot today. And because I know how valuable and highly-relevant this co
 ntent will be for you, you’ll see me co-hosting and there all day wi
 th Yakov so we can make sure we get your questions answered.\nSpots fo
 r this Full Day Workshop event are VERY limited, and this announcement
  is going out to 10,000 people. That means registration is on a first-
 come first-serve basis so you’ll want to use the Registration link t
 o reserve your spot as quickly as you can.\nLook forward to spending s
 ome time together Friday 5-10-2019.\nONLY 3 Seats Remain!\nALL DAY Wor
 kshop on Fri. 5-10-2019\nRegister Today- CLICK HERE to reserve your sp
 ot now.\n\nFor more information visit https://realty411mag.com/events/
 your-brand-new-source-for-leads-funding-and-deals
DTSTART;TZID=America/Los_Angeles:20190510T080000
DTEND;TZID=America/Los_Angeles:20190510T163000
CATEGORIES:education, workshop
LOCATION:Marin Country Club
WEBSITE:
URL:
CONTACT:
ORGANIZER;CN="Michael Morrongiello":https://realty411mag.com/profile/M
 ichaelMorrongiello
ATTACH;FMTTYPE="image/jpeg":
ATTENDEE;ROLE=REQ-PARTICIPANT;PARTSTAT=ACCEPTED;RSVP=TRUE;CN="Michael 
 Morrongiello":https://realty411mag.com/profile/MichaelMorrongiello
END:VEVENT
END:VCALENDAR
