BEGIN:VCALENDAR
PRODID:NingEventWidget-v1
VERSION:2.0
METHOD:PUBLISH
BEGIN:VTIMEZONE
TZID:America/Los_Angeles
X-LIC-LOCATION:America/Los_Angeles
BEGIN:DAYLIGHT
TZOFFSETFROM:-0800
TZOFFSETTO:-0700
TZNAME:PDT
DTSTART:19700308T020000
RRULE:FREQ=YEARLY;BYMONTH=3;BYDAY=2SU
END:DAYLIGHT
BEGIN:STANDARD
TZOFFSETFROM:-0700
TZOFFSETTO:-0800
TZNAME:PST
DTSTART:19701101T020000
RRULE:FREQ=YEARLY;BYMONTH=11;BYDAY=1SU
END:STANDARD
END:VTIMEZONE
BEGIN:VEVENT
UID:5727801:Event:59716
DTSTAMP:20260421T143215Z
SUMMARY:Why Multifamily Syndicators and Passive Investors Should Care 
 About 1031 Exchanges
DESCRIPTION:Join us online as our guest presenter Dugan Kelley of Kell
 ey Clarke, PLLC, discuss how 1031 Exchanges are important to Multifami
 ly Syndicators and Passive Investors. Watch as he explains in depth ho
 w to legally use 1031 money into Multifamily Syndication and what are 
 the important considerations before you change your structure.\nIf you
  want to learn more, register to watch the webinar live!\n------------
 ---------------------\nTHURS APRIL 25 @ 6 PM PST CLICK HERE to REGISTE
 R\n---------------------------------\nYou Will Learn\n- What is the PU
 RPOSE of a 1031 Exchange? - How to LEGALLY use 1031 money in a Multifa
 mily Syndication?\n- What is TIC?\n- What are the Important Considerat
 ions BEFORE you change your deal structure?\n- What are the ESSENTIAL 
 terms to include in your Co-Ownership Agreement?\n- How to manage all 
 the parties, Lender, QI, 1031, and Seller in order to CLOSE on the acq
 uisition?\n---------------------------------\nTHURS APRIL 25 @ 6 PM PS
 T CLICK HERE to REGISTER\n---------------------------------\nMeet our 
 Presenter\nDugan Kelley  Co-founder, Kelley Clarke, PLLC\nDugan P. Kel
 ley is the co-founder of the law firm Kelley Clarke, PLLC and chair’
 s the firm’s real estate practice group. With offices in California 
 and Texas, Kelley Clarke has a national footprint and currently repres
 ents clients throughout the United States. Mr. Kelley assists clients 
 in all phases of multi-family, commercial, and residential acquisition
 s or sales. Mr. Kelley’s real estate expertise includes transactiona
 l services for his clients ranging from from commercial loan closings,
  real estate private equity capital raises, joint venture agreements, 
 commercial leasing, business acquisitions, and general commercial real
  estate services for multi-family syndicators, investors, and develope
 rs. He has structured deals in excess of $1 billion. He is a passive i
 nvestor as well as owner in a number of asset classifications in the r
 eal estate space. He also previously sold real estate as a licensed re
 altor. Mr. Kelley has represented real-estate clients in loan workouts
  or uniquely structured transactions. Mr. Kelley is a frequent lecture
 r, speaker, and author of a best selling book Purpose, Passion & Profi
 t. He currently represents a number of companies and family businesses
  in providing advice and counsel in the capacity as outside general co
 unsel.\nIn addition, for several years, Mr. Kelley was an adjunct law 
 professor teaching fundamental legal skills, legal research and writin
 g, and moot court to law students in the Orange County area. From 2008
  through 2016, Mr. Kelley has been selected as a “Super Lawyer Risin
 g Star,” with only 2.5% of attorneys recognized as the best attorney
 s in the country. Mr. Kelley routinely acts as a mediator for other at
 torneys or as settlement counsel for complex litigation matters that r
 equire a unique solution.\nMr. Kelley and his wife, Michelle have 3 bo
 ys. The entire Kelley family is actively involved in giving back to th
 eir local church and community. You can read more about Mr. Kelley or 
 the firm at kelleyclarkelaw.com, or you can e-mail Mr. Kelley at dugan
 @kelleyclarkelaw.com.\n\nFor more information visit https://realty411m
 ag.com/events/why-multifamily-syndicators-and-passive-investors-should
 -care
DTSTART;TZID=America/Los_Angeles:20190425T180000
DTEND;TZID=America/Los_Angeles:20190425T190000
CATEGORIES:webinar
LOCATION:Your Computer
WEBSITE:https://multifamilyu.com/1031exchanges-kelley
URL:https://multifamilyu.com/1031exchanges-kelley
CONTACT:
ORGANIZER;CN="Neal Bawa":https://realty411mag.com/profile/NealBawa
ATTACH;FMTTYPE="image/jpeg":https://storage.ning.com/topology/rest/1.0
 /file/get/2066967380?profile=original
ATTENDEE;ROLE=REQ-PARTICIPANT;PARTSTAT=ACCEPTED;RSVP=TRUE;CN="Neal Baw
 a":https://realty411mag.com/profile/NealBawa
END:VEVENT
END:VCALENDAR
