BEGIN:VCALENDAR
PRODID:NingEventWidget-v1
VERSION:2.0
METHOD:PUBLISH
BEGIN:VTIMEZONE
TZID:America/Los_Angeles
X-LIC-LOCATION:America/Los_Angeles
BEGIN:DAYLIGHT
TZOFFSETFROM:-0800
TZOFFSETTO:-0700
TZNAME:PDT
DTSTART:19700308T020000
RRULE:FREQ=YEARLY;BYMONTH=3;BYDAY=2SU
END:DAYLIGHT
BEGIN:STANDARD
TZOFFSETFROM:-0700
TZOFFSETTO:-0800
TZNAME:PST
DTSTART:19701101T020000
RRULE:FREQ=YEARLY;BYMONTH=11;BYDAY=1SU
END:STANDARD
END:VTIMEZONE
BEGIN:VEVENT
UID:5727801:Event:1643
DTSTAMP:20260421T124333Z
SUMMARY:Wholesale Master's Program
DESCRIPTION:Be sure to read this entire email and then give me a call!
 \n\nHere is what's going on... I'm training a small group of house fli
 pping ninjas in the Inland Empire!!!\n\nIf you want to become a house 
 flipping ninja then give me a call and we'll get you started.\n\n>>> I
  Want a Payday - 951-280-1900\n\nThis is a small mentoring group of in
 vestors that are going to be under my wings for 3 full days. Seating i
 s extremely limited, so call now.\n\n* Imagine Getting Hands-on Traini
 ng, in the Trenches by Me Personally.\n\n* You Can Expect 100 Offers O
 n Day 1... and I will bring the funds!\n\n* It's Not Uncommon to Make 
 an Immediate 5K, 10K, 15k or within Days of Your Training!\n\n* Let's 
 Take Down Wholesale, REO's and Short Sales in a Very Fast System that 
 I Developed!!\n\n*We are Going to Build Your Business as if it Were on
  Steroids!!!\n\n* Your own 5 Million Dollar Proof of Funds Service and
  Transactional Funding\n\nIMAGINE FLIPPING PROPERTIES LIKE YOU HAVE AL
 WAYS DREAMED. I WILL MAKE IT A REALITY!\n\nPick up the phone and give 
 us a call right now!\n\n>>> I Want a Payday - 951-280-1900\n\nTo Your 
 Success (with my help),\nSensei\n\nP.S. If you are tired of the crazy 
 maze of seminars, books and CD's, then it's time to get down & dirty a
 nd train like a ninja. Think about it folks... if a boxer wants to bec
 ome a world champion would you put your money on the guy that learned 
 from books and video or the boxer that has trained in the ring?\n\nP.P
 .S. There are a lot of bonuses that go along with the mentoring. Call 
 to find out more!\n\nFor more information visit https://realty411mag.c
 om/events/wholesale-masters-program
DTSTART;TZID=America/Los_Angeles:20100805T090000
DTEND;TZID=America/Los_Angeles:20100807T170000
CATEGORIES:wholesale, training
LOCATION:Riverside
WEBSITE:
URL:
CONTACT:951-280-1900
ORGANIZER;CN="Sensei Gilliland":https://realty411mag.com/profile/Sense
 iGilliland
ATTACH;FMTTYPE="image/jpeg":http://storage.ning.com/topology/rest/1.0/
 file/get/2052999074?profile=original
ATTENDEE;ROLE=REQ-PARTICIPANT;PARTSTAT=ACCEPTED;RSVP=TRUE;CN="Sensei G
 illiland":https://realty411mag.com/profile/SenseiGilliland
END:VEVENT
END:VCALENDAR
