BEGIN:VCALENDAR
PRODID:NingEventWidget-v1
VERSION:2.0
METHOD:PUBLISH
BEGIN:VTIMEZONE
TZID:America/Los_Angeles
X-LIC-LOCATION:America/Los_Angeles
BEGIN:DAYLIGHT
TZOFFSETFROM:-0800
TZOFFSETTO:-0700
TZNAME:PDT
DTSTART:19700308T020000
RRULE:FREQ=YEARLY;BYMONTH=3;BYDAY=2SU
END:DAYLIGHT
BEGIN:STANDARD
TZOFFSETFROM:-0700
TZOFFSETTO:-0800
TZNAME:PST
DTSTART:19701101T020000
RRULE:FREQ=YEARLY;BYMONTH=11;BYDAY=1SU
END:STANDARD
END:VTIMEZONE
BEGIN:VEVENT
UID:5727801:Event:58701
DTSTAMP:20260422T001940Z
SUMMARY:WHAT YOU NEED TO KNOW ABOUT YOUR INVESTORS BEFORE ACCEPTING IN
 VESTMENTS
DESCRIPTION:WHAT YOU NEED TO KNOW ABOUT YOUR INVESTORS BEFORE ACCEPTIN
 G INVESTMENTS Friends & Family Investors v. Crowdfunding\nJoin us onli
 ne as Corporate Securities attorney Kim Lisa Taylor, Managing Attorney
  of Syndication Attorneys PLLC will discuss what you need to know abou
 t Your Investors Before Accepting Investments, including who you can l
 egally ask to invest with you, what kind of advertising you can or can
 ’t do based on the securities exemption you select, how to know if y
 our investors are suitable for a Rule 506b Offering, how crowdfunding 
 works, and how to deal with non-U.S. Investors.\n---------------------
 ------------------ TUESDAY MARCH 5th 6:00 PM PST\nCLICK HERE TO REGIST
 ER: https://multifamilyu.com/crowdfunding/\n--------------------------
 -------------\nYou Will Also Learn:\n- Securities Exemptions overview 
 - Rule 506(b) v. Rule 506(c)\n- Crowdfunding\n- Non-U.S. Investors\n- 
 Blueprint for Developing Investor Relationships\nIs This Training For 
 You?\nIf you would like to discover what you need to know about Your I
 nvestors Before Accepting Investments, you will benefit from this info
 rmation.\nRaising money to fund your multifamily deals legally is the 
 key to bigger deals and accelerated wealth creation.\nDon't miss out o
 n this critical knowledge!\n--------------------------------------- TU
 ESDAY MARCH 5th 6:00 PM PST\nCLICK HERE TO REGISTER: https://multifami
 lyu.com/crowdfunding/\n---------------------------------------\nAbout 
 our presenter:\nKim Lisa Taylor, Esq., is the founder of Syndication A
 ttorneys PLLC, a boutique corporate securities law firm that helps cli
 ents nationwide with their federal real estate securities offerings.\n
 Kim focuses on helping small business owners/developers structure and 
 convey their investment opportunities in a way that will attract priva
 te investors, both domestic and foreign. More than a law firm, Syndica
 tion Attorneys PLLC helps entrepreneurs create successful investment c
 ompanies.\nLicensed as an attorney in California since 2002, Kim has m
 ade corporate securities law her primary focus since 2008. She has bee
 n licensed as an attorney in Florida since 2012.\n\nFor more informati
 on visit https://realty411mag.com/events/what-you-need-to-know-about-y
 our-investors-before-accepting
DTSTART;TZID=America/Los_Angeles:20190305T180000
DTEND;TZID=America/Los_Angeles:20190305T190000
CATEGORIES:online, webinar
LOCATION:https://multifamilyu.com/crowdfunding/
WEBSITE:https://multifamilyu.com/crowdfunding/
URL:https://multifamilyu.com/crowdfunding/
CONTACT:
ORGANIZER;CN="Neal Bawa":https://realty411mag.com/profile/NealBawa
ATTACH;FMTTYPE="image/jpeg":https://storage.ning.com/topology/rest/1.0
 /file/get/1183660080?profile=original
ATTENDEE;ROLE=REQ-PARTICIPANT;PARTSTAT=ACCEPTED;RSVP=TRUE;CN="Neal Baw
 a":https://realty411mag.com/profile/NealBawa
ATTENDEE;ROLE=REQ-PARTICIPANT;PARTSTAT=TENTATIVE;RSVP=TRUE;CN="Mayer M
 akabe":https://realty411mag.com/profile/MayerMakabe
END:VEVENT
END:VCALENDAR
