BEGIN:VCALENDAR
PRODID:NingEventWidget-v1
VERSION:2.0
METHOD:PUBLISH
BEGIN:VTIMEZONE
TZID:America/Los_Angeles
X-LIC-LOCATION:America/Los_Angeles
BEGIN:DAYLIGHT
TZOFFSETFROM:-0800
TZOFFSETTO:-0700
TZNAME:PDT
DTSTART:19700308T020000
RRULE:FREQ=YEARLY;BYMONTH=3;BYDAY=2SU
END:DAYLIGHT
BEGIN:STANDARD
TZOFFSETFROM:-0700
TZOFFSETTO:-0800
TZNAME:PST
DTSTART:19701101T020000
RRULE:FREQ=YEARLY;BYMONTH=11;BYDAY=1SU
END:STANDARD
END:VTIMEZONE
BEGIN:VEVENT
UID:5727801:Event:56791
DTSTAMP:20260421T113736Z
SUMMARY:What You Need To Know About Securities Laws
DESCRIPTION:Join Neal Bawa with special guest presenter Kim Lisa Taylo
 r, founder of Syndication Attorneys PLLC in an eye-opening webinar abo
 ut discovering how to structure your syndicated multifamily deal to ra
 ise money from private individuals. Raising money to fund your multifa
 mily deals is the key to bigger deals and accelerated wealth creation.
 \n----------------------------------------------- Tuesday December 4th
 , 6pm Pacific | 9pm Eastern\nClick Here to Register: https://www.multi
 familyu.com/securitieslaw\n-------------------------------------------
 ----\nDuring This Live Webinar, You Will Learn ~ What's a Security?\n~
  How does it relate to my real estate investing business? \n~ What cou
 ld happen if I don't comply with securities laws?\n~ Securities Regist
 ration versus Exemptions\n~ What Does a Securities Offering Include?\n
 ~ How You Make Money as a Syndicator\nDon't miss out on this critical 
 knowledge!\nABOUT YOUR PRESENTERS\nNeal Bawa Founder/CEO\nMultifamilyU
  and Grocapitus Investments\nNeal owns and manages an extensive real e
 state single family and multifamily portfolio in 7 U.S. States. Neal o
 ften speaks at Multifamily events, IRA events & meetups across the cou
 ntry. Nearly 2,000 students attend his multifamily seminar series each
  year and hundreds attend his Multifamily boot camps. He is the co-fou
 nder of the largest Multifamily Investing Meetup in the U.S. (BAMF), w
 ith 3000 members. He leads the company and is driving the syndication 
 and acquisition of multifamily properties. Neal’s past experience in
 cludes 17 years of revenue (P&L) experience as the senior-most executi
 ve in a California education company with over 350 employees and $40MM
  in revenue.\nKim Lisa Taylor Founder\nSyndication Attorneys PLLC\nKim
  Lisa Taylor, Esq., is the founder of Syndication Attorneys PLLC, a bo
 utique corporate securities law firm that helps clients nationwide wit
 h their federal real estate securities offerings.  Kim focuses on help
 ing small business owners/developers structure and convey their invest
 ment opportunities in a way that will attract private investors, both 
 domestic and foreign. More than a law firm, Syndication Attorneys PLLC
  helps entrepreneurs create successful investment companies. \nLicense
 d as an attorney in California since 2002, Kim has made corporate secu
 rities law her primary focus since 2008. She has been licensed as an a
 ttorney in Florida since 2012.\n--------------------------------------
 --------- Tuesday December 4th, 6pm Pacific | 9pm Eastern\nClick Here 
 to Register: https://www.multifamilyu.com/securitieslaw\n-------------
 ----------------------------------\n\nFor more information visit https
 ://realty411mag.com/events/what-you-need-to-know-about-securities-laws
DTSTART;TZID=America/Los_Angeles:20181204T180000
DTEND;TZID=America/Los_Angeles:20181204T190000
CATEGORIES:online, webinar
LOCATION:https://www.multifamilyu.com/securitieslaw
WEBSITE:https://www.multifamilyu.com/securitieslaw
URL:https://www.multifamilyu.com/securitieslaw
CONTACT:
ORGANIZER;CN="Neal Bawa":https://realty411mag.com/profile/NealBawa
ATTACH;FMTTYPE="image/jpeg":https://storage.ning.com/topology/rest/1.0
 /file/get/183731300?profile=original
ATTENDEE;ROLE=REQ-PARTICIPANT;PARTSTAT=ACCEPTED;RSVP=TRUE;CN="Neal Baw
 a":https://realty411mag.com/profile/NealBawa
END:VEVENT
END:VCALENDAR
