BEGIN:VCALENDAR
PRODID:NingEventWidget-v1
VERSION:2.0
METHOD:PUBLISH
BEGIN:VTIMEZONE
TZID:America/Los_Angeles
X-LIC-LOCATION:America/Los_Angeles
BEGIN:DAYLIGHT
TZOFFSETFROM:-0800
TZOFFSETTO:-0700
TZNAME:PDT
DTSTART:19700308T020000
RRULE:FREQ=YEARLY;BYMONTH=3;BYDAY=2SU
END:DAYLIGHT
BEGIN:STANDARD
TZOFFSETFROM:-0700
TZOFFSETTO:-0800
TZNAME:PST
DTSTART:19701101T020000
RRULE:FREQ=YEARLY;BYMONTH=11;BYDAY=1SU
END:STANDARD
END:VTIMEZONE
BEGIN:VEVENT
UID:5727801:Event:57806
DTSTAMP:20260421T142926Z
SUMMARY:[Webinar] What You Need To Know About Securities Laws
DESCRIPTION:Join Neal Bawa with special guest presenter Kim Lisa Taylo
 r, founder of Syndication Attorneys PLLC in an eye-opening webinar abo
 ut discovering how to structure your syndicated multifamily deal to ra
 ise money from private individuals. Raising money to fund your multifa
 mily deals is the key to bigger deals and accelerated wealth creation.
 \n----------------------------------------------- Wednesday January 9t
 h, 6pm Pacific | 9pm Eastern\nClick Here to Register:\nhttps://multifa
 milyu.com/securitieslaw?ref=realty411&campaign=securitieslaw-webinar-a
 d\n-----------------------------------------------\nDuring This Live W
 ebinar, You Will Learn ~ What's a Security?\n~ How does it relate to m
 y real estate investing business? \n~ What could happen if I don't com
 ply with securities laws?\n~ Securities Registration versus Exemptions
 \n~ What Does a Securities Offering Include?\n~ How You Make Money as 
 a Syndicator\nDon't miss out on this critical knowledge!\nABOUT YOUR P
 RESENTERS\nNeal Bawa Founder/CEO\nMultifamilyU and Grocapitus Investme
 nts\nNeal owns and manages an extensive real estate single family and 
 multifamily portfolio in 7 U.S. States. Neal often speaks at Multifami
 ly events, IRA events & meetups across the country. Nearly 2,000 stude
 nts attend his multifamily seminar series each year and hundreds atten
 d his Multifamily boot camps. He is the co-founder of the largest Mult
 ifamily Investing Meetup in the U.S. (BAMF), with 3000 members. He lea
 ds the company and is driving the syndication and acquisition of multi
 family properties. Neal’s past experience includes 17 years of reven
 ue (P&L) experience as the senior-most executive in a California educa
 tion company with over 350 employees and $40MM in revenue.\nKim Lisa T
 aylor Founder\nSyndication Attorneys PLLC\nKim Lisa Taylor, Esq., is t
 he founder of Syndication Attorneys PLLC, a boutique corporate securit
 ies law firm that helps clients nationwide with their federal real est
 ate securities offerings.  Kim focuses on helping small business owner
 s/developers structure and convey their investment opportunities in a 
 way that will attract private investors, both domestic and foreign. Mo
 re than a law firm, Syndication Attorneys PLLC helps entrepreneurs cre
 ate successful investment companies. \nLicensed as an attorney in Cali
 fornia since 2002, Kim has made corporate securities law her primary f
 ocus since 2008. She has been licensed as an attorney in Florida since
  2012.\n----------------------------------------------- Wednesday Janu
 ary 9th, 6pm Pacific | 9pm Eastern\nClick Here to Register:\nhttps://m
 ultifamilyu.com/securitieslaw?ref=realty411&campaign=securitieslaw-web
 inar-ad\n-----------------------------------------------\n\nFor more i
 nformation visit https://realty411mag.com/events/webinar-what-you-need
 -to-know-about-securities-laws
DTSTART;TZID=America/Los_Angeles:20190109T180000
DTEND;TZID=America/Los_Angeles:20190109T190000
CATEGORIES:online, webinar
LOCATION:https://multifamilyu.com/securitieslaw?ref=realty411&amp;camp
 aign=securitieslaw-webinar-ad
WEBSITE:https://multifamilyu.com/securitieslaw?ref=realty411&amp;amp;c
 ampaign=securitieslaw-webinar-ad
URL:https://multifamilyu.com/securitieslaw?ref=realty411&amp;amp;campa
 ign=securitieslaw-webinar-ad
CONTACT:
ORGANIZER;CN="Neal Bawa":https://realty411mag.com/profile/NealBawa
ATTACH;FMTTYPE="image/jpeg":https://storage.ning.com/topology/rest/1.0
 /file/get/536146914?profile=original
ATTENDEE;ROLE=REQ-PARTICIPANT;PARTSTAT=ACCEPTED;RSVP=TRUE;CN="Neal Baw
 a":https://realty411mag.com/profile/NealBawa
END:VEVENT
END:VCALENDAR
