BEGIN:VCALENDAR
PRODID:NingEventWidget-v1
VERSION:2.0
METHOD:PUBLISH
BEGIN:VTIMEZONE
TZID:America/Los_Angeles
X-LIC-LOCATION:America/Los_Angeles
BEGIN:DAYLIGHT
TZOFFSETFROM:-0800
TZOFFSETTO:-0700
TZNAME:PDT
DTSTART:19700308T020000
RRULE:FREQ=YEARLY;BYMONTH=3;BYDAY=2SU
END:DAYLIGHT
BEGIN:STANDARD
TZOFFSETFROM:-0700
TZOFFSETTO:-0800
TZNAME:PST
DTSTART:19701101T020000
RRULE:FREQ=YEARLY;BYMONTH=11;BYDAY=1SU
END:STANDARD
END:VTIMEZONE
BEGIN:VEVENT
UID:5727801:Event:57907
DTSTAMP:20260421T114226Z
SUMMARY:[Webinar] Opportunity Zones: Unprecedented New Real Estate Tax
  Strategy
DESCRIPTION:Join popular presenter and multifamily expert Neal Bawa wi
 th his guest presenter Matt Ryan for 60+ minutes of eye opening real e
 state learning.\nWHAT IT IS An eye-opening, research driven look at on
 e of the best tax deductions for real estate investors ever. This trem
 endous new tax incentive is paving the way for gigantic profits for sa
 vvy investors.\nHOW INVESTORS BENEFIT If you are facing capital gains 
 of any kind (stocks, business sale, or real estate) we'll show you how
  this new tax law can help you defer, and in some cases completely era
 se, federal taxes... legally.\nWHAT AREAS QUALIFY The size of the oppo
 rtunity zones is absolutely enormous. In fact, we are already investin
 g in some of the designated areas because they are attrative even with
 out the huge tax incentives.\n----------------------------------------
 --------- Monday, January 7th, 6PM PST\nClick Here to Register:\nhttps
 ://multifamilyu.com/opportunityzones?ref=realty411&campaign=oppzones-w
 ebinar-ad\n--------------------------------------------------\nWHAT YO
 U'LL LEARN - The in's and out's of this relatively obscure tax incenti
 ve hidden in the tax reform package, and the recent change that is cau
 sing it to take off.\n- How you can legally pay absolutely ZERO federa
 l capital gains taxes when you take advantage of this huge tax incenti
 ve designed to encourage investment in specific communities.\n- Best s
 trategies for unlocking maximum tax savings for real estate investors 
 and apartment syndicators.\n- How you can sell highly appreciated prop
 erties in high price areas, and exchange them tax-deferred for high-in
 come properties.\n------------------------------------------------- Mo
 nday, January 7th, 6PM PST\nClick Here to Register:\nhttps://multifami
 lyu.com/opportunityzones?ref=realty411&campaign=oppzones-webinar-ad\n-
 -------------------------------------------------\nMEET YOUR PRESENTER
 :\nNEAL BAWA (Founder and CEO, MultifamilyU) Neal owns and manages an 
 extensive real estate single family and multifamily portfolio in 7 U.S
 . States. Neal often speaks at Multifamily events, IRA events & meetup
 s across the country. Nearly 2,000 students attend his multifamily sem
 inar series each year and hundreds attend his Multifamily boot camps. 
 He is the co-founder of the largest Multifamily Investing Meetup in th
 e U.S. (BAMF), with 3000 members. He leads the company and is driving 
 the syndication and acquisition of multifamily properties. Neal’s pa
 st experience includes 17 years of revenue (P&L) experience as the sen
 ior-most executive in a California education company with over 350 emp
 loyees and $40MM in revenue.\nNeal is a backyard tomato farmer and a p
 rotein diet health nut. He believes in positivity and Karma, is passio
 nate about cricket and about the enormous potential of self-driving el
 ectric vehicles to solve the global climate crisis.\n\nFor more inform
 ation visit https://realty411mag.com/events/webinar-opportunity-zones-
 unprecedented-new-real-estate-tax
DTSTART;TZID=America/Los_Angeles:20190107T180000
DTEND;TZID=America/Los_Angeles:20190107T190000
CATEGORIES:online, webinar
LOCATION:https://multifamilyu.com/opportunityzones?ref=realty411&amp;c
 ampaign=oppzones-webinar-ad
WEBSITE:https://multifamilyu.com/opportunityzones?ref=realty411&amp;am
 p;campaign=oppzones-webinar-ad
URL:https://multifamilyu.com/opportunityzones?ref=realty411&amp;amp;ca
 mpaign=oppzones-webinar-ad
CONTACT:
ORGANIZER;CN="Neal Bawa":https://realty411mag.com/profile/NealBawa
ATTACH;FMTTYPE="image/jpeg":https://storage.ning.com/topology/rest/1.0
 /file/get/536088500?profile=original
ATTENDEE;ROLE=REQ-PARTICIPANT;PARTSTAT=ACCEPTED;RSVP=TRUE;CN="Neal Baw
 a":https://realty411mag.com/profile/NealBawa
END:VEVENT
END:VCALENDAR
