BEGIN:VCALENDAR
PRODID:NingEventWidget-v1
VERSION:2.0
METHOD:PUBLISH
BEGIN:VTIMEZONE
TZID:America/Los_Angeles
X-LIC-LOCATION:America/Los_Angeles
BEGIN:DAYLIGHT
TZOFFSETFROM:-0800
TZOFFSETTO:-0700
TZNAME:PDT
DTSTART:19700308T020000
RRULE:FREQ=YEARLY;BYMONTH=3;BYDAY=2SU
END:DAYLIGHT
BEGIN:STANDARD
TZOFFSETFROM:-0700
TZOFFSETTO:-0800
TZNAME:PST
DTSTART:19701101T020000
RRULE:FREQ=YEARLY;BYMONTH=11;BYDAY=1SU
END:STANDARD
END:VTIMEZONE
BEGIN:VEVENT
UID:5727801:Event:5011
DTSTAMP:20260421T100113Z
SUMMARY:Webinar on How To Flip REO'S & Bird Dog. REPLAY
DESCRIPTION:Did you miss the Webinar the other night?Last night ther
 e was some great info given.\nAbout Bird Dogging and how to Wholesale 
 REO'S.This replay will only be up for a few days, so now is your chanc
 e to listen and take notes on all the great info.http://budurl.com/reo
 replayTo Your Success,Fernando\n\nFor more information visit https://r
 ealty411mag.com/events/webinar-on-how-to-flip-reos
DTSTART;TZID=America/Los_Angeles:20110318T160000
DTEND;TZID=America/Los_Angeles:20110318T170000
CATEGORIES:edcational
LOCATION:Online
WEBSITE:http://budurl.com/reoreplay
URL:http://budurl.com/reoreplay
CONTACT:
ORGANIZER;CN="Fernando Young":https://realty411mag.com/profile/Fernand
 oYoung
ATTACH;FMTTYPE="image/jpeg":
ATTENDEE;ROLE=REQ-PARTICIPANT;PARTSTAT=ACCEPTED;RSVP=TRUE;CN="Fernando
  Young":https://realty411mag.com/profile/FernandoYoung
END:VEVENT
END:VCALENDAR
