BEGIN:VCALENDAR
PRODID:NingEventWidget-v1
VERSION:2.0
METHOD:PUBLISH
BEGIN:VTIMEZONE
TZID:America/Los_Angeles
X-LIC-LOCATION:America/Los_Angeles
BEGIN:DAYLIGHT
TZOFFSETFROM:-0800
TZOFFSETTO:-0700
TZNAME:PDT
DTSTART:19700308T020000
RRULE:FREQ=YEARLY;BYMONTH=3;BYDAY=2SU
END:DAYLIGHT
BEGIN:STANDARD
TZOFFSETFROM:-0700
TZOFFSETTO:-0800
TZNAME:PST
DTSTART:19701101T020000
RRULE:FREQ=YEARLY;BYMONTH=11;BYDAY=1SU
END:STANDARD
END:VTIMEZONE
BEGIN:VEVENT
UID:5727801:Event:57910
DTSTAMP:20260421T130234Z
SUMMARY:[Webinar] Evaluating Multifamily Properties: Reading Financial
 s &amp; Pitfalls
DESCRIPTION:Join us online as we show you behind the scenes our invest
 ment property selection process. We will go through the stages involve
 d in assessing a property, the questions that we ask, the assumptions 
 we make, and how they influence the property analysis process.\nDuring
  This Live Webinar, You Will Learn ~ 4 important metrics you need to k
 now when evaluating a property and what values to look for\n~ The firs
 t \"make or break\" filters to analyze a deal, so you don't waste time
  and resources \n~ The \"Holy Trinity\" - what it is and why it's impo
 rtant\n~ 5 specific things you must look for in an operating memorandu
 m\n~ Operating memorandum information to be cautious about, and valida
 te externally\n~ 3 costly but common pitfalls to avoid\n--------------
 ------------------- Thursday, January 10th 6PM Pacific\nCLICK HERE TO 
 REGISTER:\nhttps://multifamilyu.com/evaluatingprops?ref=realty411&camp
 aign=evalprops-webinar-ad\n---------------------------------\nIf you w
 ant a proven system for buying multifamily properties, then this live 
 training is for you!\nYou Will Discover:\nPrefacing an Assessment: Ide
 ntifying your goals Reading the Property Package: Keywords to watch ou
 t for\nVacancies: Understanding economic vacancies vs physical vacanci
 es.\nAvoiding Surprise Expenses: Asking the right questions can save h
 undreds of thousands of dollars.\nTeam: Resources and partners you nee
 d on your team.\nNumbers: The nitty, the gritty, numbers game. \nUnder
 standing Value-Add: The different types of value adds, costs vs return
 s\nCapital Stack: financing and assumptions\nAssessing Returns: Tying 
 in with your goals\nMeet our presenter:\nAnna Myers Director, Acquisit
 ions\nGrocapitus Investments\nAnna works very closely with Neal to und
 erwrite properties and make offers for Neal’s clients. Her backgroun
 d as a software developer gives her a distinct edge when it comes to d
 ata-rich financial analysis. She is a graduate of Neal’s Apartment M
 agic boot camp.\nImportant: This is a live virtual online event. You o
 nly have one chance to join us LIVE. Don’t miss it!\n---------------
 ------------------ Thursday, January 10th 6PM Pacific\nCLICK HERE TO R
 EGISTER:\nhttps://multifamilyu.com/evaluatingprops?ref=realty411&campa
 ign=evalprops-webinar-ad\n---------------------------------\n\nFor mor
 e information visit https://realty411mag.com/events/webinar-evaluating
 -multifamily-properties-reading-financials-amp
DTSTART;TZID=America/Los_Angeles:20190110T180000
DTEND;TZID=America/Los_Angeles:20190110T190000
CATEGORIES:online, webinar
LOCATION:https://multifamilyu.com/evaluatingprops?ref=realty411&amp;ca
 mpaign=evalprops-webinar-ad
WEBSITE:https://multifamilyu.com/evaluatingprops?ref=realty411&amp;amp
 ;amp;amp;campaign=evalprops-webinar-ad
URL:https://multifamilyu.com/evaluatingprops?ref=realty411&amp;amp;amp
 ;amp;campaign=evalprops-webinar-ad
CONTACT:
ORGANIZER;CN="Neal Bawa":https://realty411mag.com/profile/NealBawa
ATTACH;FMTTYPE="image/jpeg":https://storage.ning.com/topology/rest/1.0
 /file/get/536210934?profile=original
ATTENDEE;ROLE=REQ-PARTICIPANT;PARTSTAT=ACCEPTED;RSVP=TRUE;CN="Neal Baw
 a":https://realty411mag.com/profile/NealBawa
END:VEVENT
END:VCALENDAR
