BEGIN:VCALENDAR
PRODID:NingEventWidget-v1
VERSION:2.0
METHOD:PUBLISH
BEGIN:VTIMEZONE
TZID:America/Los_Angeles
X-LIC-LOCATION:America/Los_Angeles
BEGIN:DAYLIGHT
TZOFFSETFROM:-0800
TZOFFSETTO:-0700
TZNAME:PDT
DTSTART:19700308T020000
RRULE:FREQ=YEARLY;BYMONTH=3;BYDAY=2SU
END:DAYLIGHT
BEGIN:STANDARD
TZOFFSETFROM:-0700
TZOFFSETTO:-0800
TZNAME:PST
DTSTART:19701101T020000
RRULE:FREQ=YEARLY;BYMONTH=11;BYDAY=1SU
END:STANDARD
END:VTIMEZONE
BEGIN:VEVENT
UID:5727801:Event:58538
DTSTAMP:20260424T032023Z
SUMMARY:[Webinar] Evaluating Multifamily Properties: Reading Financial
 s &amp; Pitfalls
DESCRIPTION:Join us online as we show you behind the scenes our invest
 ment property selection process. We will go through the stages involve
 d in assessing a property, the questions that we ask, the assumptions 
 we make, and how they influence the property analysis process.\nDuring
  This Live Webinar, You Will Learn ~ 4 important metrics you need to k
 now when evaluating a property and what values to look for\n~ The firs
 t \"make or break\" filters to analyze a deal, so you don't waste time
  and resources \n~ The \"Holy Trinity\" - what it is and why it's impo
 rtant\n~ 5 specific things you must look for in an operating memorandu
 m\n~ Operating memorandum information to be cautious about, and valida
 te externally\n~ 3 costly but common pitfalls to avoid\n--------------
 ------------------- Tuesday, February 12th 6PM Pacific\nCLICK HERE TO 
 REGISTER: https://multifamilyu.com/evaluatingprops?ref=realty411\n----
 -----------------------------\nIf you want a proven system for buying 
 multifamily properties, then this live training is for you!\nYou Will 
 Discover:\nPrefacing an Assessment: Identifying your goals Reading the
  Property Package: Keywords to watch out for\nVacancies: Understanding
  economic vacancies vs physical vacancies.\nAvoiding Surprise Expenses
 : Asking the right questions can save hundreds of thousands of dollars
 .\nTeam: Resources and partners you need on your team.\nNumbers: The n
 itty, the gritty, numbers game. \nUnderstanding Value-Add: The differe
 nt types of value adds, costs vs returns\nCapital Stack: financing and
  assumptions\nAssessing Returns: Tying in with your goals\nMeet our pr
 esenter:\nAnna Myers Director, Acquisitions\nGrocapitus Investments\nA
 nna works very closely with Neal to underwrite properties and make off
 ers for Neal’s clients. Her background as a software developer gives
  her a distinct edge when it comes to data-rich financial analysis. Sh
 e is a graduate of Neal’s Apartment Magic boot camp.\nImportant: Thi
 s is a live virtual online event. You only have one chance to join us 
 LIVE. Don’t miss it!\n--------------------------------- Tuesday, Feb
 ruary 12th 6PM Pacific\nCLICK HERE TO REGISTER: https://multifamilyu.c
 om/evaluatingprops?ref=realty411\n---------------------------------\n\
 nFor more information visit https://realty411mag.com/events/webinar-ev
 aluating-multifamily-properties-reading-financials-am-1
DTSTART;TZID=America/Los_Angeles:20190212T180000
DTEND;TZID=America/Los_Angeles:20190212T190000
CATEGORIES:online, webinar
LOCATION:https://multifamilyu.com/evaluatingprops?ref=realty411
WEBSITE:https://multifamilyu.com/evaluatingprops?ref=realty411
URL:https://multifamilyu.com/evaluatingprops?ref=realty411
CONTACT:
ORGANIZER;CN="Neal Bawa":https://realty411mag.com/profile/NealBawa
ATTACH;FMTTYPE="image/jpeg":https://storage.ning.com/topology/rest/1.0
 /file/get/1030744329?profile=original
ATTENDEE;ROLE=REQ-PARTICIPANT;PARTSTAT=ACCEPTED;RSVP=TRUE;CN="Neal Baw
 a":https://realty411mag.com/profile/NealBawa
END:VEVENT
END:VCALENDAR
