BEGIN:VCALENDAR
PRODID:NingEventWidget-v1
VERSION:2.0
METHOD:PUBLISH
BEGIN:VTIMEZONE
TZID:America/Los_Angeles
X-LIC-LOCATION:America/Los_Angeles
BEGIN:DAYLIGHT
TZOFFSETFROM:-0800
TZOFFSETTO:-0700
TZNAME:PDT
DTSTART:19700308T020000
RRULE:FREQ=YEARLY;BYMONTH=3;BYDAY=2SU
END:DAYLIGHT
BEGIN:STANDARD
TZOFFSETFROM:-0700
TZOFFSETTO:-0800
TZNAME:PST
DTSTART:19701101T020000
RRULE:FREQ=YEARLY;BYMONTH=11;BYDAY=1SU
END:STANDARD
END:VTIMEZONE
BEGIN:VEVENT
UID:5727801:Event:56494
DTSTAMP:20260421T032137Z
SUMMARY:[Webinar] A Simple 3 Step Approach To Buying Below Market Mult
 ifamily Properties For Higher Profits
DESCRIPTION:A Simple 3 Step Approach To Buying Below Market Multifamil
 y Properties For Higher Profits ...and how you can save time leveragin
 g technology\nAre you using old, ineffective deal analysis approaches 
 that are costly, labor intensive, and generate poor results leading to
  poor investment decisions?\nAre you a value-add investor that would l
 ove a fast way to determine if a deal is one where you can make money 
 or not?\nOn this webinar we will show you a blazingly fast way to anal
 yze deals and make better investment decisions backed by data-driven a
 ssumptions.\n-------------------------------------- Wednesday October 
 17th at 6PM Pacific\nClick here to register: https://multifamilyu.com/
 enodo\n--------------------------------------\nRESEARCH - Quickly find
  properties operating below market value COMPARE - Identify properties
  with similar characteristics and rent\nUNDERWRITE - Enter revenue and
  expense assumptions to quickly find a properties value\nWHAT YOU'LL L
 EARN ~ A step-by-step valuation method for multifamily properties, so 
 you can identify and analyze the best deals (and quickly underwrite un
 dervalued investment opportunities in any market)\n~ How to accurately
  predict market rents, amenity values, rent comps, and operating expen
 ses for any multifamily property (in less time and with less hassle)\n
 ~ Rent Survey/Rents Comps - Instantly survey the most similar multifam
 ily properties (with real-time updates) \n~ Rent Prediction/Calculatio
 n - An accurate, data-driven approach to calculating optimal rent for 
 pre and post renovation scenarios with individual amenity value\n~ Exp
 ense Benchmark Analysis - An automated approach to learn if you are un
 der or over performing for each individual expense line item\n~ An exc
 iting new tool that systematically identifies undervalued multifamily 
 properties (and recently identified over 9,000 undervalued opportuniti
 es)\nNote: You don't have to be present for the live webinar to get al
 l the benefits from this awesome training. Register and watch the repl
 ay video at your convenience. We know your life is busy, and we design
  our training to work within your schedule.\n-------------------------
 ------------- Wednesday October 17th at 6PM Pacific\nClick here to reg
 ister: https://multifamilyu.com/enodo\n-------------------------------
 -------\n\nFor more information visit https://realty411mag.com/events/
 webinar-a-simple-3-step-approach-to-buying-below-market
DTSTART;TZID=America/Los_Angeles:20181017T180000
DTEND;TZID=America/Los_Angeles:20181017T190000
CATEGORIES:online, event, "|", webinar
LOCATION:https://multifamilyu.com/enodo
WEBSITE:https://multifamilyu.com/enodo
URL:https://multifamilyu.com/enodo
CONTACT:
ORGANIZER;CN="Neal Bawa":https://realty411mag.com/profile/NealBawa
ATTACH;FMTTYPE="image/jpeg":http://storage.ning.com/topology/rest/1.0/
 file/get/2286649815?profile=original
ATTENDEE;ROLE=REQ-PARTICIPANT;PARTSTAT=ACCEPTED;RSVP=TRUE;CN="Neal Baw
 a":https://realty411mag.com/profile/NealBawa
END:VEVENT
END:VCALENDAR
