BEGIN:VCALENDAR
PRODID:NingEventWidget-v1
VERSION:2.0
METHOD:PUBLISH
BEGIN:VTIMEZONE
TZID:America/Los_Angeles
X-LIC-LOCATION:America/Los_Angeles
BEGIN:DAYLIGHT
TZOFFSETFROM:-0800
TZOFFSETTO:-0700
TZNAME:PDT
DTSTART:19700308T020000
RRULE:FREQ=YEARLY;BYMONTH=3;BYDAY=2SU
END:DAYLIGHT
BEGIN:STANDARD
TZOFFSETFROM:-0700
TZOFFSETTO:-0800
TZNAME:PST
DTSTART:19701101T020000
RRULE:FREQ=YEARLY;BYMONTH=11;BYDAY=1SU
END:STANDARD
END:VTIMEZONE
BEGIN:VEVENT
UID:5727801:Event:56887
DTSTAMP:20260421T130201Z
SUMMARY:Untapped Resource: Raising Capital Using Self-Directed IRAs
DESCRIPTION:Join our special guest presenter Scott Maurer of Advanta I
 RA and discover how you can take financial control of your retirement 
 dollars and put them to use in investments that you control.\n--------
 ------------------------------------- Wednesday, December 12, 6PM Paci
 fic\nClick Here to Register: https://multifamilyu.com/untappedresource
 ?ref=realty411&campaign=untappedresource-webinar-post\n---------------
 ------------------------------\nWHAT IS AN SDIRA A self-directed indiv
 idual retirement account (SDIRA) is an individual retirement account (
 IRA) in which the investor is in charge of making all the investment d
 ecisions.\nWHAT YOU DONT KNOW When it comes to raising capital and inv
 esting in real estate, many syndicators and investors are often unawar
 e of a largely untapped resource: retirement accounts!\n\nMIND BOGGLIN
 G FACTS\nThere is over $8.3 trillion in IRA accounts, and even more th
 an that sitting in 401ks and other employer-sponsored plans\nWHAT YOU'
 LL LEARN ~ The different types of retirement accounts that can be self
 -directed\n~ How the funds are moved tax-free between custodians\n~ Ho
 w self-directed retirement funds can be invested in a private partners
 hip\n~ What is involved to move funds out of the stock market\n~ Why I
 RAs can be a great and easy resource to tap into for both your existin
 g investors and future ones\nFor those individuals looking to raise ca
 pital, Scott will explain why IRAs can be a great and easy resource to
  tap into for both your existing investors and future ones as well. Sc
 ott will also go over how Advanta can provide you with the tools and r
 esources to help unlock this new source of capital.\n-----------------
 ---------------------------- Wednesday, December 12, 6PM Pacific\nClic
 k Here to Register: https://multifamilyu.com/untappedresource?ref=real
 ty411&campaign=untappedresource-webinar-post\n------------------------
 ---------------------\nMEET YOUR PRESENTER\nSCOTT MAURER Advanta IRA\n
 Scott is the Director of Business Development for Advanta IRA. Advanta
  specializes in administering self-directed IRA and retirement account
 s. Scott has worked for Advanta since 2006, and is a frequent speaker 
 and lecturer on the topic of self-directed IRAs and using retirement f
 unds to invest in real estate and other alternative assets.\nAs the Bu
 siness Development Director, Scott oversees the sales, marketing and e
 ducation staff to insure that new clients receive proper guidance and 
 support when establishing relationships with Advanta. Scott has also w
 orked with numerous individuals and companies to educate them on how s
 elf-directed IRAs can be used in their capital raising strategies.\nSc
 ott is also an attorney and a member of The Florida Bar, although he d
 oes not give legal advice to Advanta clients\n\nFor more information v
 isit https://realty411mag.com/events/untapped-resource-raising-capital
 -using-self-directed-iras
DTSTART;TZID=America/Los_Angeles:20181212T180000
DTEND;TZID=America/Los_Angeles:20181212T190000
CATEGORIES:online, webinar
LOCATION:https://multifamilyu.com/untappedresource?ref=realty411&amp;c
 ampaign=untappedresource-webinar-post
WEBSITE:https://multifamilyu.com/untappedresource?ref=realty411&amp;am
 p;campaign=untappedresource-webinar-post
URL:https://multifamilyu.com/untappedresource?ref=realty411&amp;amp;ca
 mpaign=untappedresource-webinar-post
CONTACT:
ORGANIZER;CN="Neal Bawa":https://realty411mag.com/profile/NealBawa
ATTACH;FMTTYPE="image/jpeg":https://storage.ning.com/topology/rest/1.0
 /file/get/260325940?profile=original
ATTENDEE;ROLE=REQ-PARTICIPANT;PARTSTAT=ACCEPTED;RSVP=TRUE;CN="Neal Baw
 a":https://realty411mag.com/profile/NealBawa
END:VEVENT
END:VCALENDAR
