BEGIN:VCALENDAR
PRODID:NingEventWidget-v1
VERSION:2.0
METHOD:PUBLISH
BEGIN:VTIMEZONE
TZID:America/Los_Angeles
X-LIC-LOCATION:America/Los_Angeles
BEGIN:DAYLIGHT
TZOFFSETFROM:-0800
TZOFFSETTO:-0700
TZNAME:PDT
DTSTART:19700308T020000
RRULE:FREQ=YEARLY;BYMONTH=3;BYDAY=2SU
END:DAYLIGHT
BEGIN:STANDARD
TZOFFSETFROM:-0700
TZOFFSETTO:-0800
TZNAME:PST
DTSTART:19701101T020000
RRULE:FREQ=YEARLY;BYMONTH=11;BYDAY=1SU
END:STANDARD
END:VTIMEZONE
BEGIN:VEVENT
UID:5727801:Event:59303
DTSTAMP:20260421T131215Z
SUMMARY:Turbocharge Your Rental Property Profits With Neal Bawa's Uniq
 ue LASAL Revenue Management System
DESCRIPTION:If your rental property is not giving you the profits you 
 projected, DO THIS ONE THING to get outsized and immediate gains!\n\"I
  bought the right property in the right neighborhood in the right city
  for the right price, and I have the right property manager, but I am 
 still not getting my projected returns. My investors are screaming at 
 me and I don't know what to do. I feel completely hopeless...\"\nIf th
 is has happened to you, the you need to implement the free ultra-power
 ful L-A-S-A-L revenue management system for your rental property. Neal
  Bawa invented this revenue management system the day he had an \"ah h
 a\" moment and understood a basic universal truth: \"the motivations o
 f your property manager are not the same as the motivations of investo
 rs\".\nTo bring balance to this relationshp, the motivations need to b
 e aligned. The L-A-S-A-L system was invented to do just that, and it w
 orks fabulously, every single time! Bring along a laptop or iPad (opti
 onal) to this workshop, filled with entertaining anecdotes and results
 -oriented content.\n----------------------------- Monday, March 25th 6
 PM PST\nCLICK HERE TO REGISTER: https://multifamilyu.com/lasal\n------
 -----------------------\nWHAT YOU'LL LEARN\nThe 5 critical metrics and
  4 ratios of the L-A-S-A-L revenue boosting system How each important 
 metric in the L-A-S-A-L system works\nHow to measure the metrics and c
 alculate the ratios for your propery, to see how much money you are le
 aving on the table each and every month\nHow to set goals for your pro
 perty manager and incentivize their leasing agents to drive your occup
 ancy, without compromising tenant quality or lowering rents\nAttend fo
 r free and learn this powerful knowledge, complete with step-by-step i
 mplementation instructions.\nWe promise that the power and efficiency 
 of the L-A-S-A-L system will leave you speechless. Once you understand
  this system, you will never buy another property without the use of t
 his system.\nThe system works for single family and multifamily proper
 ties. Even if your property is doing well, you can implement this syst
 em and see terrific Net Operating Income (NOI) gains.\nMEET YOUR PRESE
 NTER\nNEAL BAWA Founder and CEO, MultifamilyU \nNeal Bawa is CEO / Fou
 nder at Grocapitus, a commercial real estate investment company. Neal 
 sources, negotiates and acquires Commercial properties across the U.S.
 , for 300+ investors. Current portfolio over 1800 units/beds, projecte
 d to be at 3,000 in 12 months. The portfolio includes Multifamily and 
 student housing properties in 8 U.S. states.\nNeal speaks at Multifami
 ly events, IRA events &&meetups across the country. Nearly 4,000 stude
 nts attend his multifamily seminar series each year and hundreds atten
 d his Magic of Multifamily boot camps. Neal is the co-founder of the l
 argest Multifamily Investing Meetup network in the U.S. (BAMF), a grou
 p of investors that has over 4000 members.\nNeal is a backyard tomato 
 farmer and a protein diet health nut. He believes in positivity and Ka
 rma, is passionate about cricket and about the enormous potential of s
 elf-driving electric vehicles to solve the global climate crisis.\n---
 -------------------------- Monday, March 25th 6PM PST\nCLICK HERE TO R
 EGISTER: https://multifamilyu.com/lasal\n-----------------------------
 \nWHAT OTHERS SAY ABOUT NEAL'S TRAINING:\n\"Neal’s presentation was 
 filled with invaluable information that is not readily available to th
 e average investor. This group takes you to the elite level of investi
 ng. Many many hours of research must have gone into this presentation!
  Thank you guys for sharing it with me!!\" - Carlos Molina\n\nFor more
  information visit https://realty411mag.com/events/turbocharge-your-re
 ntal-property-profits-with-neal-bawa-s-unique
DTSTART;TZID=America/Los_Angeles:20190325T180000
DTEND;TZID=America/Los_Angeles:20190325T190000
CATEGORIES:online, webinar
LOCATION:https://multifamilyu.com/lasal
WEBSITE:https://multifamilyu.com/lasal
URL:https://multifamilyu.com/lasal
CONTACT:
ORGANIZER;CN="Neal Bawa":https://realty411mag.com/profile/NealBawa
ATTACH;FMTTYPE="image/jpeg":https://storage.ning.com/topology/rest/1.0
 /file/get/1379243358?profile=original
ATTENDEE;ROLE=REQ-PARTICIPANT;PARTSTAT=ACCEPTED;RSVP=TRUE;CN="Neal Baw
 a":https://realty411mag.com/profile/NealBawa
END:VEVENT
END:VCALENDAR
