BEGIN:VCALENDAR
PRODID:NingEventWidget-v1
VERSION:2.0
METHOD:PUBLISH
BEGIN:VTIMEZONE
TZID:America/Los_Angeles
X-LIC-LOCATION:America/Los_Angeles
BEGIN:DAYLIGHT
TZOFFSETFROM:-0800
TZOFFSETTO:-0700
TZNAME:PDT
DTSTART:19700308T020000
RRULE:FREQ=YEARLY;BYMONTH=3;BYDAY=2SU
END:DAYLIGHT
BEGIN:STANDARD
TZOFFSETFROM:-0700
TZOFFSETTO:-0800
TZNAME:PST
DTSTART:19701101T020000
RRULE:FREQ=YEARLY;BYMONTH=11;BYDAY=1SU
END:STANDARD
END:VTIMEZONE
BEGIN:VEVENT
UID:5727801:Event:58415
DTSTAMP:20260421T114101Z
SUMMARY:Top 12 reasons to attend the Multifamily Fundamentals webinar 
 on February 5th Tuesday night at 6:00 PM (PST)
DESCRIPTION:Hi Apartment Moguls,\nWe are teaching the Multifamily Fund
 amentals webinar again, FEBRUARY 5TH TUESDAY NIGHT at 6:00 PM PST (onl
 ine only). If you want to learn more about how Multifamily works, this
  is the best hour that you will ever spend. We promise to deliver an a
 nimated, fun and interesting presentation, with lots of learning nugge
 ts and take-aways. \nHere are just 12 key items that you will learn ab
 out :\n1. What are the stock market’s returns for the last 14 years,
  when adjusted for inflation?\n2. What are the market trends that have
  driven record breaking growth in multifamily in the last 3 years?\n3.
  How can a group of investors buy a $10 million dollar Multifamily bui
 lding?\n4. What is the life cycle of a multifamily project?\n5. Why is
  it that someone with no credit or bad credit can buy a multifamily pr
 operty, but not a single family property?\n6. Who manages a multifamil
 y property (i.e. the tenants and toilets).\n7. How do you get loans fo
 r Multifamily, and who is on the hook to pay them?\n8. How can two abs
 olutely identical multifamily properties that are next to each other h
 ave extremely different values?\n9. Why are multifamily values general
 ly less volatile than single family?\n10. What are the classes of Mult
 ifamily buildings and how do they impact investment return?\n11. What 
 are the top 6 reasons to invest in Multifamily?\n12. How are baby boom
 ers, echo boomers and millennial's accelerating multifamily demand?\nY
 ou will get clear answers to these questions, along with a road-map fo
 r multifamily investment. See you there !!\nINVEST IN YOUR EDUCATION A
 ND REGISTER FOR THE WEBINAR HERE\nOr, copy and paste the link below to
  a new browser:\nhttps://register.gotowebinar.com/register/42860121656
 86372609\nJean-Marc Landau, Host Financial Attunement, Inc.\nwww.finat
 t.com\n\nFor more information visit https://realty411mag.com/events/to
 p-12-reasons-to-attend-the-multifamily-fundamentals-webinar-on
DTSTART;TZID=America/Los_Angeles:20190205T180000
DTEND;TZID=America/Los_Angeles:20190205T200000
CATEGORIES:webinar
LOCATION:ONLINE
WEBSITE:
URL:
CONTACT:
ORGANIZER;CN="Jean-Marc Landau":https://realty411mag.com/profile/JeanM
 arcLandau
ATTACH;FMTTYPE="image/jpeg":https://storage.ning.com/topology/rest/1.0
 /file/get/953700489?profile=original
ATTENDEE;ROLE=REQ-PARTICIPANT;PARTSTAT=ACCEPTED;RSVP=TRUE;CN="Jean-Mar
 c Landau":https://realty411mag.com/profile/JeanMarcLandau
END:VEVENT
END:VCALENDAR
