BEGIN:VCALENDAR
PRODID:NingEventWidget-v1
VERSION:2.0
METHOD:PUBLISH
BEGIN:VTIMEZONE
TZID:America/Los_Angeles
X-LIC-LOCATION:America/Los_Angeles
BEGIN:DAYLIGHT
TZOFFSETFROM:-0800
TZOFFSETTO:-0700
TZNAME:PDT
DTSTART:19700308T020000
RRULE:FREQ=YEARLY;BYMONTH=3;BYDAY=2SU
END:DAYLIGHT
BEGIN:STANDARD
TZOFFSETFROM:-0700
TZOFFSETTO:-0800
TZNAME:PST
DTSTART:19701101T020000
RRULE:FREQ=YEARLY;BYMONTH=11;BYDAY=1SU
END:STANDARD
END:VTIMEZONE
BEGIN:VEVENT
UID:5727801:Event:56335
DTSTAMP:20260421T062211Z
SUMMARY:There Is a Hero In Everyone Of Us!
DESCRIPTION:Join us on Thursday, October 18th, at 6:30 pm, in La Quint
 a Inn, 46200 Landing Parkway, Fremont, CA.\nRegistration & Networking 
 6:30 pm Meeting time: 7:00 pm to 9:00 pm\nOur special guests will be L
 ori Greymont, CEO and President of SJREI! Topic: There is a hero in ev
 eryone of us!\nLoriâ€™s shares some of the most trying times in her li
 fe, then reflects on how those times propelled her to do amazing thing
 s including 1600 flips and running the largest investment club in the 
 Bay Area!\nCome to here her story and be inspired by one to the most a
 ccomplished real estate investors the Bay Area!\nAbout Lori:\nSEO and 
 President of SJREI, the Bay Areaâ€™s leading, nationally recognized re
 al estate investors association â€” Lori Greymont is a serial entrepre
 neur and developer based in the heart of Silicon Valley.\nIn 2014, she
  purchased the largest San Francisco Bay Area real estate investment a
 ssociation (SJREI) and was able to double membership in less than 9 mo
 nths. In addition, she doubled the revenues of this company by impleme
 nting programs to create monthly recurring revenue.\nLoriâ€™s real est
 ate experience includes remotely rehabbing and flipping over 1600 sfrâ
 €™s nationwide to hedge funds from 2011-2014, ground-up development of
  multifamily communities, zoning changes of infill lots to PUDâ€™s and
  commercial, syndications and funds.\nIf you are out of the area you c
 an watch this on Facebook Live Stream here at: https://www.facebook.co
 m/groups/makemoneyrealestate/\nJoin the fastest growing Meetup Group i
 n the United States! Training will be conducted each meeting on a vari
 ety of real estate topics & Financial Strategies such as getting start
 ed in Real Estate Investing, Tax & Legal issues, Retirement Investing,
  Finding properties, Bird-dogging, Wholesaling, Fix and Flip, Buy and 
 Hold, Hard & Private Money Lending, Using software programs, and so mu
 ch more. Learn how you can create Cash Flow and be Debt Free!\nThere w
 ill be time for business networking so be sure you bring your business
  brochures and cards for our Business Showcase Table.\nâ€¢ What we'll 
 do: Investors, wholesalers, re-habbers, probate, short sales, contract
 ors, lenders, etc. will connect with other investors and lenders and e
 xpand their resources. New investors will benefit from the experiences
  of established investors in our breakout sessions.\nâ€¢ What to bring
 : Business Casual Dress\nBring your notepads\nBring business cards & b
 rochures\nAn Open Mind\nâ€¢ Important to know: Registration fee for al
 l attendees is $15.00, cash or credit card at the door.\nBe prepared t
 o introduce yourself, your business and a short what you do statement.
  Business cards will be exchanged. Our code of ethics are - no selling
  or recruiting at the meeting. Please schedule one-on-one's to build y
 our networks and share deals. A table will be provided for business ca
 rds and brochures.\nPlease Note: This event is published on multiple M
 eetups and other social networks... so we are looking forward to havin
 g a packed house.\n\nFor more information visit https://realty411mag.c
 om/events/there-is-a-hero-in-everyone-of-us
DTSTART;TZID=America/Los_Angeles:20181018T183000
DTEND;TZID=America/Los_Angeles:20181018T210000
CATEGORIES:meetup
LOCATION:La Quinta Inn &amp; Suites Fremont / Silicon Valley
WEBSITE:https://www.meetup.com/Make-Money-Now-Real-Estate-Investors-Fr
 emont-CA/events/254844522/
URL:https://www.meetup.com/Make-Money-Now-Real-Estate-Investors-Fremon
 t-CA/events/254844522/
CONTACT:
ORGANIZER;CN="REI Fortunes":https://realty411mag.com/profile/REIFortun
 es
ATTACH;FMTTYPE="image/jpeg":http://storage.ning.com/topology/rest/1.0/
 file/get/2286643360?profile=original
ATTENDEE;ROLE=REQ-PARTICIPANT;PARTSTAT=ACCEPTED;RSVP=TRUE;CN="REI Fort
 unes":https://realty411mag.com/profile/REIFortunes
END:VEVENT
END:VCALENDAR
