BEGIN:VCALENDAR
PRODID:NingEventWidget-v1
VERSION:2.0
METHOD:PUBLISH
BEGIN:VTIMEZONE
TZID:America/Los_Angeles
X-LIC-LOCATION:America/Los_Angeles
BEGIN:DAYLIGHT
TZOFFSETFROM:-0800
TZOFFSETTO:-0700
TZNAME:PDT
DTSTART:19700308T020000
RRULE:FREQ=YEARLY;BYMONTH=3;BYDAY=2SU
END:DAYLIGHT
BEGIN:STANDARD
TZOFFSETFROM:-0700
TZOFFSETTO:-0800
TZNAME:PST
DTSTART:19701101T020000
RRULE:FREQ=YEARLY;BYMONTH=11;BYDAY=1SU
END:STANDARD
END:VTIMEZONE
BEGIN:VEVENT
UID:5727801:Event:1143
DTSTAMP:20260421T113729Z
SUMMARY:The Ultimate Investor's Tour
DESCRIPTION:Interested In Having a Fist Full of Dollars?\nFlip or Cash
  Flow... You Decide Let's get together for 1 day, learn my Remote Reha
 bbing system, check out the houses and start building your real estate
  cash and wealth machine right away. Ready to get on board?\n\nFor mor
 e information visit https://realty411mag.com/events/the-ultimate-inves
 tors-tour
DTSTART;TZID=America/Los_Angeles:20100612T000000
DTEND;TZID=America/Los_Angeles:20100612T235900
CATEGORIES:fix-n-flip, and, cash, flow, opportunities
LOCATION:Will be given at time of registration
WEBSITE:http://theultimateinvestortour.eventbrite.com/
URL:http://theultimateinvestortour.eventbrite.com/
CONTACT:951-280-1900
ORGANIZER;CN="Sensei Gilliland":https://realty411mag.com/profile/Sense
 iGilliland
ATTACH;FMTTYPE="image/jpeg":http://storage.ning.com/topology/rest/1.0/
 file/get/2052998869?profile=original
ATTENDEE;ROLE=REQ-PARTICIPANT;PARTSTAT=ACCEPTED;RSVP=TRUE;CN="Sensei G
 illiland":https://realty411mag.com/profile/SenseiGilliland
END:VEVENT
END:VCALENDAR
