BEGIN:VCALENDAR
PRODID:NingEventWidget-v1
VERSION:2.0
METHOD:PUBLISH
BEGIN:VTIMEZONE
TZID:America/Los_Angeles
X-LIC-LOCATION:America/Los_Angeles
BEGIN:DAYLIGHT
TZOFFSETFROM:-0800
TZOFFSETTO:-0700
TZNAME:PDT
DTSTART:19700308T020000
RRULE:FREQ=YEARLY;BYMONTH=3;BYDAY=2SU
END:DAYLIGHT
BEGIN:STANDARD
TZOFFSETFROM:-0700
TZOFFSETTO:-0800
TZNAME:PST
DTSTART:19701101T020000
RRULE:FREQ=YEARLY;BYMONTH=11;BYDAY=1SU
END:STANDARD
END:VTIMEZONE
BEGIN:VEVENT
UID:5727801:Event:60452
DTSTAMP:20260421T100113Z
SUMMARY:The Midwest Real Estate Networking Summit
DESCRIPTION:Join me at The Midwest Real Estate Networking Summit, a on
 e of a kind, no pitch event focused on networking. The event helps rea
 l investors connect with the partners, resources and tools to elevate 
 their portfolios.\n--------------------------------------- When: June 
 1-2\nWhere: UIC Student Center East, 750 South Halsted Street, Chicago
 ‚ Illinois 60607\nCLICK HERE TO REGISTER: http://www.midwestresummit
 .com/\n---------------------------------------\nIf you would you like 
 to learn the secrets, tips and tools that others are using to grow the
 ir portfolios, and if you are skeptical of the guru “sales” pitch 
 that usually accompanies such offers, then this event is perfect for y
 ou.\nRegister today and I look forward to seeing you at the event !!\n
 P.S. I’m not being paid for making this recommendation or speaking a
 t this event. I’m telling you about this because I believe you’ll 
 benefit from the face-to-face connections and networking and from the 
 “what’s-working-now” focus of the presentations, panels, and bre
 akout sessions, especially since many of the speakers have strong conn
 ections to the Midwest.\nCheck out the speaker lineup (I think you’l
 l be excited about who’s going to be there) and buy your ticket at M
 idwestRESummit.com.\n\nFor more information visit https://realty411mag
 .com/events/the-midwest-real-estate-networking-summit
DTSTART;TZID=America/Los_Angeles:20190601T080000
DTEND;TZID=America/Los_Angeles:20190602T170000
CATEGORIES:live, event
LOCATION:UIC Student Center East
WEBSITE:http://www.midwestresummit.com/
URL:http://www.midwestresummit.com/
CONTACT:
ORGANIZER:Brie Schmidt
ATTACH;FMTTYPE="image/jpeg":https://storage.ning.com/topology/rest/1.0
 /file/get/2620112101?profile=original
ATTENDEE;ROLE=REQ-PARTICIPANT;PARTSTAT=ACCEPTED;RSVP=TRUE;CN="Neal Baw
 a":https://realty411mag.com/profile/NealBawa
END:VEVENT
END:VCALENDAR
