BEGIN:VCALENDAR
PRODID:NingEventWidget-v1
VERSION:2.0
METHOD:PUBLISH
BEGIN:VTIMEZONE
TZID:America/Los_Angeles
X-LIC-LOCATION:America/Los_Angeles
BEGIN:DAYLIGHT
TZOFFSETFROM:-0800
TZOFFSETTO:-0700
TZNAME:PDT
DTSTART:19700308T020000
RRULE:FREQ=YEARLY;BYMONTH=3;BYDAY=2SU
END:DAYLIGHT
BEGIN:STANDARD
TZOFFSETFROM:-0700
TZOFFSETTO:-0800
TZNAME:PST
DTSTART:19701101T020000
RRULE:FREQ=YEARLY;BYMONTH=11;BYDAY=1SU
END:STANDARD
END:VTIMEZONE
BEGIN:VEVENT
UID:5727801:Event:2425
DTSTAMP:20260421T113442Z
SUMMARY:The Elite Extraordinaire Cruise * Join In!
DESCRIPTION:The Elite Extraordinaire Cruise * Join In!\n\nThe Elite Ex
 traordinaire Cruise is currently offering two-for-one specials now thr
 ough December 31st on penthouse staterooms for their maiden voyage.\n\
 nThe cruise leaves March 17th 2011 from Miami, FL and returns March 31
 st. Guests will be sailing to the Panama Canal on the newly refurbishe
 d Six Star Symphony of Crystal Cruises.\n\nThe cruises’ overall them
 e is “A Celebration of Wealth”, where business meets luxury. An at
 mosphere will be created where business networking can take place in a
  luxurious setting.\n\nTo that end, guests will have the opportunity t
 o listen to a featured speaker who will lecture on topics concerning p
 resent-day world affairs. There will also be an innovative series of c
 omplimentary interactive classes created to enhance guests’ knowledg
 e in the areas of arts & entertainment, business & technology, lifesty
 le, wellness, and wine & food. Certificates of completion will be dist
 ributed at the end of the curriculum.\n\nLive entertainment and multip
 le off--shore excursions will also be offered to guests of The Elite E
 xtraordinaire Cruise. For more details, please visit the cruises’ we
 bsite at www.eliteextraordinaire.com.\n\nFor more information visit ht
 tps://realty411mag.com/events/the-elite-extraordinaire
DTSTART;TZID=America/Los_Angeles:20110317T080000
DTEND;TZID=America/Los_Angeles:20110324T100000
CATEGORIES:vip, cruise
LOCATION:Miami to Los Angeles
WEBSITE:http://www.eliteextraordinaire.com
URL:http://www.eliteextraordinaire.com
CONTACT:Realty411: 310.499.9545
ORGANIZER;CN="Realty411 Magazine":https://realty411mag.com/profile/Rea
 lty411Magazine
ATTACH;FMTTYPE="image/jpeg":http://storage.ning.com/topology/rest/1.0/
 file/get/2052998946?profile=original
ATTENDEE;ROLE=REQ-PARTICIPANT;PARTSTAT=ACCEPTED;RSVP=TRUE;CN="Realty41
 1 Magazine":https://realty411mag.com/profile/Realty411Magazine
END:VEVENT
END:VCALENDAR
