BEGIN:VCALENDAR
PRODID:NingEventWidget-v1
VERSION:2.0
METHOD:PUBLISH
BEGIN:VTIMEZONE
TZID:America/Los_Angeles
X-LIC-LOCATION:America/Los_Angeles
BEGIN:DAYLIGHT
TZOFFSETFROM:-0800
TZOFFSETTO:-0700
TZNAME:PDT
DTSTART:19700308T020000
RRULE:FREQ=YEARLY;BYMONTH=3;BYDAY=2SU
END:DAYLIGHT
BEGIN:STANDARD
TZOFFSETFROM:-0700
TZOFFSETTO:-0800
TZNAME:PST
DTSTART:19701101T020000
RRULE:FREQ=YEARLY;BYMONTH=11;BYDAY=1SU
END:STANDARD
END:VTIMEZONE
BEGIN:VEVENT
UID:5727801:Event:2012
DTSTAMP:20260421T100152Z
SUMMARY:THE CREATIVE INVESTOR'S EXPO
DESCRIPTION:Realty411 & Real Estate Wealth Magazines Present...\n\nThe
  CREATIVE Investor's EXPO\n\nOur Last FREE Event of the Year!\n\nhttp:
 //creativeinvestorsexpo.eventbrite.com/\n\nMingle with Vendors/Brokers
 /Wholesalers\n\n& Property Managers From EMERGING MARKETS!\n\nAlso fea
 turing great DEALS in CA starting at $55K!\n\nNOT BUYING RIGHT NOW? TH
 AT IS OK\nCOME LEARN AND NETWORK WITH US!!\n\nhttp://creativeinvestors
 expo.eventbrite.com/\n\nEXPO HIGHLIGHTS INCLUDE:\n\n* Buy a Rental Hom
 e and PAY IT OFF IN 5 YEARS!\n\nWe are unveiling a program that allows
  investors\nthe ability to RETIRE EARLY\n\n* \"Find It, Bind It and As
 sign It\"\nBuild the ULTIMATE Cash Flow Machine WHOLESALING\n\nhttp://
 creativeinvestorsexpo.eventbrite.com/\n\nMingle with the Most Popular 
 REIAs in California -\n\nAll Under ONE ROOF United to Support Our FREE
  Magazine!\n\nhttp://creativeinvestorsexpo.eventbrite.com/\n\n* Hear T
 OP Brokers/Property Managers/Wholesalers\nplus meet local investors wh
 o are already doing business with them\n\nLots of other FREE Gifts, Ra
 ffles, Prizes & MORE\nPLUS, Tips to Skyrocket Your Mindset & Portfolio
  with\n\"\n*VERY LIMITED SPACE! ** MUST RESERVE SEAT NOW *\n\nhttp://c
 reativeinvestorsexpo.eventbrite.com/\n\n~~~~~~~~~~~~~~~~~~~~~~~~~~~~~~
 ~~~~~~~~~\nRESOURCES FOR INVESTORS OF REAL ESTATE\nwww.realty411guide.
 com | www.CashFlowCows.com |\n24 HOUR HOTLINE/FAX: 310.499.9545 ~ cell
 : 310.994.1962\n~~~~~~~~~~~~~~~~~~~~~~~~~~~~~~~~~~~~~~~\n\nFor more in
 formation visit https://realty411mag.com/events/the-creative-investors
 -expo
DTSTART;TZID=America/Los_Angeles:20101106T000000
DTEND;TZID=America/Los_Angeles:20101106T235900
CATEGORIES:rei, education, networking, and, "celebaration!"
LOCATION:Radisson Hotel (LAX)
WEBSITE:http://creativeinvestorsexpo.eventbrite.com/
URL:http://creativeinvestorsexpo.eventbrite.com/
CONTACT:310-499-9545
ORGANIZER;CN="Realty411 Magazine":https://realty411mag.com/profile/Rea
 lty411Magazine
ATTACH;FMTTYPE="image/jpeg":http://storage.ning.com/topology/rest/1.0/
 file/get/2052998913?profile=original
ATTENDEE;ROLE=REQ-PARTICIPANT;PARTSTAT=ACCEPTED;RSVP=TRUE;CN="Realty41
 1 Magazine":https://realty411mag.com/profile/Realty411Magazine
END:VEVENT
END:VCALENDAR
