BEGIN:VCALENDAR
PRODID:NingEventWidget-v1
VERSION:2.0
METHOD:PUBLISH
BEGIN:VTIMEZONE
TZID:America/Los_Angeles
X-LIC-LOCATION:America/Los_Angeles
BEGIN:DAYLIGHT
TZOFFSETFROM:-0800
TZOFFSETTO:-0700
TZNAME:PDT
DTSTART:19700308T020000
RRULE:FREQ=YEARLY;BYMONTH=3;BYDAY=2SU
END:DAYLIGHT
BEGIN:STANDARD
TZOFFSETFROM:-0700
TZOFFSETTO:-0800
TZNAME:PST
DTSTART:19701101T020000
RRULE:FREQ=YEARLY;BYMONTH=11;BYDAY=1SU
END:STANDARD
END:VTIMEZONE
BEGIN:VEVENT
UID:5727801:Event:56613
DTSTAMP:20260421T045325Z
SUMMARY:Successful East Bay mega-syndicator Vinney Chopra shares his s
 tory with BAMF in San Francisco
DESCRIPTION:Don't miss this unique opportunity to hear \"Mr. Smile\" s
 peak!\nFive years ago, Jean-Marc met Vinney at a Dave Lindahl multi-fa
 mily event. After many in-depth conversations, Jean-Marc was inspired 
 to take his multi-family business to a higher level and enter into the
  fabulous world of syndication. And those were still early days for Vi
 nney, long before his current success.\n==============================
 ======\nWhen: Wednesday, October 17, 2018 at 6:30 PM to 9:00 PM Where:
  New York Life office on the 9th floor -425 Market St · San Francisco
 , CA\n=====================================\nVinney will explain how m
 arket cycles work in Real Life… gave 28% IRR.\nJoin us for an unforg
 ettable evening. Listen to... Vinney's story of humble beginnings in A
 merica with just $7 in his pocket and a dream.\nHow his early “very 
 tough days” turned into success later in Life! His Systems & Princip
 les.\nThe mission and vision of his successful business models through
  his teams of people.\nBuilding wealth through B and C class multi-fam
 ily investment groups. Understanding emerging markets and Trends.\nSec
 rets to his 26 syndications through Investor and broker relationship b
 uilding systems.\nSpinning of 5 plates through Networking & Negotiatio
 ns.\nHis messages on Passion to Live!! Focus, Goal setting, Persistenc
 e, Rejection, Attitude and Happiness!!\nWe are all seeking the America
 n Dream. Come hear from someone who has achieved it.\nSee you there!\n
 Jean Marc, Holly, Neal\n\nFor more information visit https://realty411
 mag.com/events/successful-east-bay-mega-syndicator-vinney-chopra-share
 s-his-1
DTSTART;TZID=America/Los_Angeles:20181017T183000
DTEND;TZID=America/Los_Angeles:20181017T210000
CATEGORIES:seminar
LOCATION:New York Life office on the 9th floor
WEBSITE:
URL:
CONTACT:https://www.meetup.com/MFinvestingMeetup/events/smsscpyxnbwb/
ORGANIZER;CN="Jean-Marc Landau":https://realty411mag.com/profile/JeanM
 arcLandau
ATTACH;FMTTYPE="image/jpeg":http://storage.ning.com/topology/rest/1.0/
 file/get/2286643528?profile=original
ATTENDEE;ROLE=REQ-PARTICIPANT;PARTSTAT=ACCEPTED;RSVP=TRUE;CN="Jean-Mar
 c Landau":https://realty411mag.com/profile/JeanMarcLandau
END:VEVENT
END:VCALENDAR
