BEGIN:VCALENDAR
PRODID:NingEventWidget-v1
VERSION:2.0
METHOD:PUBLISH
BEGIN:VTIMEZONE
TZID:America/Los_Angeles
X-LIC-LOCATION:America/Los_Angeles
BEGIN:DAYLIGHT
TZOFFSETFROM:-0800
TZOFFSETTO:-0700
TZNAME:PDT
DTSTART:19700308T020000
RRULE:FREQ=YEARLY;BYMONTH=3;BYDAY=2SU
END:DAYLIGHT
BEGIN:STANDARD
TZOFFSETFROM:-0700
TZOFFSETTO:-0800
TZNAME:PST
DTSTART:19701101T020000
RRULE:FREQ=YEARLY;BYMONTH=11;BYDAY=1SU
END:STANDARD
END:VTIMEZONE
BEGIN:VEVENT
UID:5727801:Event:25974
DTSTAMP:20260421T095923Z
SUMMARY:Stockton Expo and Property Tour - CASH FLOW IN CA!
DESCRIPTION:STOCKTON EXPO & PROPERTY TOUR  OCT. 13 AND 14TH!\n\nOur Ma
 gazine is Traveling Around the Nation in Search of CASH FLOW!!!  Now, 
 we are uncovering opportunities to buy Rental Homes  in areas of Calif
 ornia for around $30,000 -- We are NOT kidding!  One of the areas is S
 tockton, CA, which is bouncing back and  brimming with opportunities f
 or Cash Flow and Future Appreciation.  We will be hosting a STOCKTON E
 xpo and Bus Tour for investors.  So far, we have people joining us fro
 m CA, AZ, TX, NY and more...  This will be the ONLY time we visit STOC
 KTON this year, so join in.   For information on our Saturday Expo & S
 unday Tour, go to:   http://stocktonexpo.eventbrite.com/\nWANT MORE IN
 FORMATION? WATCH OUR VIDEOS:\n\n\nOUR MAGAZINE PUTS ON MORE EVENTS THA
 N ANY OTHER!!!\n\n\n\nFor more information visit https://realty411mag.
 com/events/stocktonexpo
DTSTART;TZID=America/Los_Angeles:20121013T100000
DTEND;TZID=America/Los_Angeles:20121013T160000
CATEGORIES:expo, and, bus, tour, for, investor, broker, "affiliates!"
LOCATION:University Plaza Waterfront Hotel
WEBSITE:http://stocktonexpo.eventbrite.com/
URL:http://stocktonexpo.eventbrite.com/
CONTACT:310-499-9545
ORGANIZER:Realty411/reWEALTH Magazine
ATTACH;FMTTYPE="image/jpeg":http://storage.ning.com/topology/rest/1.0/
 file/get/2052999467?profile=original
ATTENDEE;ROLE=REQ-PARTICIPANT;PARTSTAT=ACCEPTED;RSVP=TRUE;CN="Realty41
 1 Magazine":https://realty411mag.com/profile/Realty411Magazine
END:VEVENT
END:VCALENDAR
