BEGIN:VCALENDAR
PRODID:NingEventWidget-v1
VERSION:2.0
METHOD:PUBLISH
BEGIN:VTIMEZONE
TZID:America/Los_Angeles
X-LIC-LOCATION:America/Los_Angeles
BEGIN:DAYLIGHT
TZOFFSETFROM:-0800
TZOFFSETTO:-0700
TZNAME:PDT
DTSTART:19700308T020000
RRULE:FREQ=YEARLY;BYMONTH=3;BYDAY=2SU
END:DAYLIGHT
BEGIN:STANDARD
TZOFFSETFROM:-0700
TZOFFSETTO:-0800
TZNAME:PST
DTSTART:19701101T020000
RRULE:FREQ=YEARLY;BYMONTH=11;BYDAY=1SU
END:STANDARD
END:VTIMEZONE
BEGIN:VEVENT
UID:5727801:Event:58349
DTSTAMP:20260424T062143Z
SUMMARY:Silicon Valley Expo in Santa Clara, CA THIS SATURDAY
DESCRIPTION:Download our latest REALTY411 Expo Schedule for our event 
 this Saturday in Silicon Valley!\r\nMeet the Realty411 Team in Santa C
 lara and get connected with the brightest and best in Real Estate in t
 he local and national marketplace.\r\nHighlights of the event, include
 :\r\n\r\n\r\nFree Hotel Parking\r\nComplimentary Expo\r\nBreakfast Mix
 er for Early-Birds and VIP Guests\r\nTote Bag for Early-Bird Guests\r\
 nAmazing Learning that Normally Costs HUNDREDS\r\nAccess to UNLIMITED 
 Capital for ALL Your Deals (across the nation)\r\nMeet the LOCAL Real 
 Estate Club Leaders\r\nMingle with Heavy Hitters in REI from Across th
 e Country\r\nReceive Realty411 & REI Wealth — Read Insight Every Mon
 th\r\nAll Guests Receive TWO Magazines for ONE YEAR!\r\nYES, THAT’S 
 RIGHT that equals to 10 REI Wealth Monthly issues and 5 Realty411 Issu
 es\r\nTHAT’S THOUSANDS OF PAGES FROM TOP INVESTORS AND OUR REPORTERS
 , WRITTEN JUST FOR YOU!\r\n\r\n\r\nSince 2007, Realty411 has been unit
 ing investors, private lenders, and real estate agents with company le
 aders and industry executives.\r\nLet’s connect in person soon!\r\nD
 OWNLOAD OUR AGENDA: https://joom.ag/rzta\r\n\r\nFOR EXPOS IN OTHER CIT
 IES, VISIT:  http://realty411expo.com/RSVP\n\nFor more information vi
 sit https://realty411mag.com/events/silicon-valley-expo-in-santa-clara
 -ca-this-saturday
DTSTART;TZID=America/Los_Angeles:20190209T090000
DTEND;TZID=America/Los_Angeles:20190209T170000
CATEGORIES:expo, and, conference
LOCATION:Embassy Suites - Silicon Valley
WEBSITE:http://realty411expo.com/events/santa-clara-ca/
URL:http://realty411expo.com/events/santa-clara-ca/
CONTACT:805.693.1497
ORGANIZER;CN="Realty411 Magazine":https://realty411mag.com/profile/Rea
 lty411Magazine
ATTACH;FMTTYPE="image/jpeg":
ATTENDEE;ROLE=REQ-PARTICIPANT;PARTSTAT=ACCEPTED;RSVP=TRUE;CN="Realty41
 1 Magazine":https://realty411mag.com/profile/Realty411Magazine
END:VEVENT
END:VCALENDAR
