BEGIN:VCALENDAR
PRODID:NingEventWidget-v1
VERSION:2.0
METHOD:PUBLISH
BEGIN:VTIMEZONE
TZID:America/Los_Angeles
X-LIC-LOCATION:America/Los_Angeles
BEGIN:DAYLIGHT
TZOFFSETFROM:-0800
TZOFFSETTO:-0700
TZNAME:PDT
DTSTART:19700308T020000
RRULE:FREQ=YEARLY;BYMONTH=3;BYDAY=2SU
END:DAYLIGHT
BEGIN:STANDARD
TZOFFSETFROM:-0700
TZOFFSETTO:-0800
TZNAME:PST
DTSTART:19701101T020000
RRULE:FREQ=YEARLY;BYMONTH=11;BYDAY=1SU
END:STANDARD
END:VTIMEZONE
BEGIN:VEVENT
UID:5727801:Event:60318
DTSTAMP:20260421T115835Z
SUMMARY:SF Bay Area Real Estate Health Check – are prices going to c
 rater?
DESCRIPTION:Real estate expert and top National presenter Neal Bawa wi
 ll present his annual San Francisco Bay Area health check and Trends p
 resentation. This in-depth entertaining presentation gives you a bird-
 eye view of what’s happening in the Bay Area’s real estate market.
  It includes entertaining videos about Bay Area real estate, quotes fr
 om market experts and one or two delightful surprises. Neal’s presen
 tation ends with a look at over 30 cities in the SF Bay Area and how t
 hey fared in the last 12 months. Along with predictions on 2019 pricin
 g trends. So keep your cameras handy !!\n=============================
 ==========\nTuesday, May 7th at 6:00PM PST\nCLICK HERE to REGISTER\n==
 =====================================\nNeal’s story will start with 
 the 6 X-Factors that have driven the Bay Area’s pricing since the gr
 eat recession.\n#1: Neal talks about interest rates and the impact of 
 interest rates on the Bay Area market. This is a huge factor that affe
 cts affordability in the Bay area.\n#2: Next, Neal moves on to Job Gro
 wth, and specifically tech job growth which is a key driver of the Bay
  Area’s real estate market. Find out if the jobs growth numbers are 
 holding up, or will the layoffs ruin the party?\n#3: Coming in at numb
 er 3 is the Big A word: AFFORDABILITY. Can the residents of the Bay Ar
 ea afford to buy homes? What percentage of the Bay Area can afford hom
 es here? What are the median incomes needed to buy homes in the major 
 Bay Area cities? What are the median monthly housing costs in the vari
 ous cities. Learn all of these key decision factors in Neal’s presen
 tation.\n#4: Housing supply is so important in NIMBY-driven Bay Area p
 olicy. Is the government finally making the policy changes needed, or 
 is housing supply going to continue to be restrained in 2019?\n#5: No 
 discussion of the Bay Area real estate market is complete without a di
 scussion about the tech boom (bubble???) and the upcoming IPOs. Will t
 he sky high valuations in tech continue to drive real estate? Or will 
 reality finally take a bite out of the Bay’s valuations apple?\n#6: 
 Chinese cash buyers have had a huge psychological impact on the Bay Ar
 ea’s real estate market. Will the ever-harsher capital controls impo
 sed by the Chinese government impact Chinese buyers in 2019? Find out 
 in Neal’s presentation.\n#7: Neal’s presentation ends with an ente
 rtaining city by city, and county by county price appreciation shootou
 t. Many of the winners and losers are going to surprise you !!\nIf you
  are interested in the Bay area market, this event is for you ! You wi
 ll walk away armed with the knowledge to figure out your plan of attac
 k. You will be better able to protect your income against market decli
 nes, or changes in the real estate environment.\n=====================
 ==================\nTuesday, May 7th at 6:00PM PST\nCLICK HERE to REGI
 STER\n=======================================\n\nFor more information 
 visit https://realty411mag.com/events/sf-bay-area-real-estate-health-c
 heck-are-prices-going-to-crater
DTSTART;TZID=America/Los_Angeles:20190507T180000
DTEND;TZID=America/Los_Angeles:20190507T200000
CATEGORIES:"seminar/talk"
LOCATION:WeWork
WEBSITE:https://www.meetup.com/MFinvestingMeetup/events/261235251/
URL:https://www.meetup.com/MFinvestingMeetup/events/261235251/
CONTACT:
ORGANIZER;CN="Neal Bawa":https://realty411mag.com/profile/NealBawa
ATTACH;FMTTYPE="image/jpeg":https://storage.ning.com/topology/rest/1.0
 /file/get/2315307570?profile=original
ATTENDEE;ROLE=REQ-PARTICIPANT;PARTSTAT=ACCEPTED;RSVP=TRUE;CN="Neal Baw
 a":https://realty411mag.com/profile/NealBawa
END:VEVENT
END:VCALENDAR
