BEGIN:VCALENDAR
PRODID:NingEventWidget-v1
VERSION:2.0
METHOD:PUBLISH
BEGIN:VTIMEZONE
TZID:America/Los_Angeles
X-LIC-LOCATION:America/Los_Angeles
BEGIN:DAYLIGHT
TZOFFSETFROM:-0800
TZOFFSETTO:-0700
TZNAME:PDT
DTSTART:19700308T020000
RRULE:FREQ=YEARLY;BYMONTH=3;BYDAY=2SU
END:DAYLIGHT
BEGIN:STANDARD
TZOFFSETFROM:-0700
TZOFFSETTO:-0800
TZNAME:PST
DTSTART:19701101T020000
RRULE:FREQ=YEARLY;BYMONTH=11;BYDAY=1SU
END:STANDARD
END:VTIMEZONE
BEGIN:VEVENT
UID:5727801:Event:24063
DTSTAMP:20260421T102518Z
SUMMARY:Self Directed IRA investment JAMBOREE: Speaker Kaaren Hall
DESCRIPTION:Come join us, for another POWER networking event for real 
 estate investors of all experience levels.  Speaker Kaaren Hall Presi
 dent of uDirect IRA services, LLC will be discussing \"How to Use 401k
  and retirement funds to invest in real estate!”\nCome learn about :
 \n\nProhibited transactions\nDifferent types of Self Directed Accounts
 \nThe benefits of adding real estate to your investment portfolio\nThe
  process of purchasing real estate with a self directed IRA\n\nKaaren 
 has helped hundreds of people self-direct their retirement savings.  
 A native of California, she has a 16-year background in Real Estate, P
 roperty Management and Mortgage Lending.  She has worked at such comp
 anies as Bank of America, Centex Homes, Pulte Homes and Indymac Bank. 
  She's held a real estate license in Washington, Texas and California
  and a Life & Health license in California.\nHer company, uDirect IRA 
 Services, LLC, offers self-directed education and services to investor
 s, providing excellent customer service.  Kaaren is a public speaker 
 and master networker. A mother of two, she lives in Orange County.\nLi
 mited seating please RSVP ASAP. (More details on facebook : llosd)\nSa
 n Diego’s’ most influential and successful women in real estate wi
 ll be gathering to share resources and experiences in dealing with the
  3 T's. (Tenants, Toilets and Trash!)\nGentlemen and women with a thir
 st for knowledge and an eye for deals welcomed. As always REFRESHMENTS
 , MUSIC, HORS DOURVES, WINE will be served. Pre-Registration Not Requ
 ired.\nAs property owners, we all face similar challenges, and goals n
 o matter the region. Experienced and inexperienced REAL ESTATE investo
 rs with rental property in CA or out of state are welcomed. This group
  is for women and the  GENTLEMEN who love them! Come one come all, it
 's Pau Hana Time!\n \nThis event like all of our events is wheelchair
  accessible\n\nFor more information visit https://realty411mag.com/eve
 nts/self-directed-ira-investment-jamboree-speaker-kaaren-hall
DTSTART;TZID=America/Los_Angeles:20120626T183000
DTEND;TZID=America/Los_Angeles:20120626T210000
CATEGORIES:education, real, estate, ira, retirement, cash, flow, rent,
  rental, passive, income, flip, short, sale, loan, modification, semin
 ar, presentation, kaaren, investor, investment
LOCATION:Big Block Realty
WEBSITE:http://www.meetup.com/Lady-Landlords-of-San-Diego/
URL:http://www.meetup.com/Lady-Landlords-of-San-Diego/
CONTACT:760 896-4808
ORGANIZER;CN="Lady Landlords of San Diego":https://realty411mag.com/pr
 ofile/MsJasmineRWillois
ATTACH;FMTTYPE="image/jpeg":http://storage.ning.com/topology/rest/1.0/
 file/get/2052999434?profile=original
ATTENDEE;ROLE=REQ-PARTICIPANT;PARTSTAT=ACCEPTED;RSVP=TRUE;CN="Lady Lan
 dlords of San Diego":https://realty411mag.com/profile/MsJasmineRWilloi
 s
END:VEVENT
END:VCALENDAR
