BEGIN:VCALENDAR
PRODID:NingEventWidget-v1
VERSION:2.0
METHOD:PUBLISH
BEGIN:VTIMEZONE
TZID:America/Los_Angeles
X-LIC-LOCATION:America/Los_Angeles
BEGIN:DAYLIGHT
TZOFFSETFROM:-0800
TZOFFSETTO:-0700
TZNAME:PDT
DTSTART:19700308T020000
RRULE:FREQ=YEARLY;BYMONTH=3;BYDAY=2SU
END:DAYLIGHT
BEGIN:STANDARD
TZOFFSETFROM:-0700
TZOFFSETTO:-0800
TZNAME:PST
DTSTART:19701101T020000
RRULE:FREQ=YEARLY;BYMONTH=11;BYDAY=1SU
END:STANDARD
END:VTIMEZONE
BEGIN:VEVENT
UID:5727801:Event:28347
DTSTAMP:20260421T113425Z
SUMMARY:San Jose Weekend Real Estate Expo
DESCRIPTION: Please join us at our FREE Real Estate Success Expo.  We 
 have nearly 500 investors registered for our  3rd Annual Real Estate E
 xpo in Northern California !  Click below for details on this event in
  San Jose:  http://sanjosesuccessday.eventbrite.com/\n\nThis is the on
 ly FREE Weekend Expo in the area, so don't miss this phenomenal netwo
 rking event!!\nCompanies are flying in from around the nation to meet 
 YOU and help you with all the resources you need to succeed as a real 
 estate investor.\nIf the publisher, Linda Pliagas, can be a successful
  investor doing this business \"part-time\" you can do it too!\n\n*** 
 OUR ONLY EXPO THIS YEAR IN SAN JOSE, CA !!!! ***\n\nFor more informati
 on visit https://realty411mag.com/events/sanjose
DTSTART;TZID=America/Los_Angeles:20130223T000000
DTEND;TZID=America/Los_Angeles:20130224T235900
CATEGORIES:weekend, real, estate, expo
LOCATION:Doubletree by Hilton Hotel
WEBSITE:http://sanjosesuccessday.eventbrite.com/#
URL:http://sanjosesuccessday.eventbrite.com/#
CONTACT:24 HOTLINE: 310.499.9545
ORGANIZER;CN="Realty411 Magazine":https://realty411mag.com/profile/Rea
 lty411Magazine
ATTACH;FMTTYPE="image/jpeg":http://storage.ning.com/topology/rest/1.0/
 file/get/2286638796?profile=original
ATTENDEE;ROLE=REQ-PARTICIPANT;PARTSTAT=ACCEPTED;RSVP=TRUE;CN="Paul R":
 https://realty411mag.com/profile/PaulR
ATTENDEE;ROLE=REQ-PARTICIPANT;PARTSTAT=ACCEPTED;RSVP=TRUE;CN="Realty41
 1 Magazine":https://realty411mag.com/profile/Realty411Magazine
END:VEVENT
END:VCALENDAR
