BEGIN:VCALENDAR
PRODID:NingEventWidget-v1
VERSION:2.0
METHOD:PUBLISH
BEGIN:VTIMEZONE
TZID:America/Los_Angeles
X-LIC-LOCATION:America/Los_Angeles
BEGIN:DAYLIGHT
TZOFFSETFROM:-0800
TZOFFSETTO:-0700
TZNAME:PDT
DTSTART:19700308T020000
RRULE:FREQ=YEARLY;BYMONTH=3;BYDAY=2SU
END:DAYLIGHT
BEGIN:STANDARD
TZOFFSETFROM:-0700
TZOFFSETTO:-0800
TZNAME:PST
DTSTART:19701101T020000
RRULE:FREQ=YEARLY;BYMONTH=11;BYDAY=1SU
END:STANDARD
END:VTIMEZONE
BEGIN:VEVENT
UID:5727801:Event:24754
DTSTAMP:20260421T100915Z
SUMMARY:Sand, Surf & Sales - 2nd Annual Santa Barbara REIA Expo
DESCRIPTION:Sand, Surf & Sales...\n2nd Annual Santa Barbara REIA Expo\
 n\nJoin Us for our 2nd Annual Santa Barbara REIA Expo -  A FREE Real E
 state Expo and VIP Networking Event  Celebrate the new issue of the Ca
 shFlow Express!\n\nMingle with the Directors of the Central Coast REIA
 s\n Spend the weekend in the most beautiful coastal city of California
 .  http://santabarbaraexpo.eventbrite.com/\n\nFor more information vis
 it https://realty411mag.com/events/sand-surf-sales-2nd-annual-santa-ba
 rbara-reia-expo
DTSTART;TZID=America/Los_Angeles:20120714T090000
DTEND;TZID=America/Los_Angeles:20120714T150000
CATEGORIES:expo, for, investors, and, "realtors/brokers"
LOCATION:Fess Parker Double Tree
WEBSITE:http://santabarbaraexpo.eventbrite.com/
URL:http://santabarbaraexpo.eventbrite.com/
CONTACT:310-499-9545
ORGANIZER;CN="Realty411 Magazine":https://realty411mag.com/profile/Rea
 lty411Magazine
ATTACH;FMTTYPE="image/jpeg":http://storage.ning.com/topology/rest/1.0/
 file/get/1979407310?profile=original
ATTENDEE;ROLE=REQ-PARTICIPANT;PARTSTAT=ACCEPTED;RSVP=TRUE;CN="Realty41
 1 Magazine":https://realty411mag.com/profile/Realty411Magazine
END:VEVENT
END:VCALENDAR
