BEGIN:VCALENDAR
PRODID:NingEventWidget-v1
VERSION:2.0
METHOD:PUBLISH
BEGIN:VTIMEZONE
TZID:America/Los_Angeles
X-LIC-LOCATION:America/Los_Angeles
BEGIN:DAYLIGHT
TZOFFSETFROM:-0800
TZOFFSETTO:-0700
TZNAME:PDT
DTSTART:19700308T020000
RRULE:FREQ=YEARLY;BYMONTH=3;BYDAY=2SU
END:DAYLIGHT
BEGIN:STANDARD
TZOFFSETFROM:-0700
TZOFFSETTO:-0800
TZNAME:PST
DTSTART:19701101T020000
RRULE:FREQ=YEARLY;BYMONTH=11;BYDAY=1SU
END:STANDARD
END:VTIMEZONE
BEGIN:VEVENT
UID:5727801:Event:59032
DTSTAMP:20260421T185326Z
SUMMARY:[San Francisco] Opportunity Zones: Unprecedented New Real Esta
 te Tax Strategy
DESCRIPTION:Join our presenter Anna Myers, Vice President of Grocapitu
 s Investments, for an eye-opening, research driven look at one of the 
 best tax deductions for real estate investors ever. This tremendous ne
 w tax incentive is paving the way for gigantic profits for savvy inves
 tors. If you are facing capital gains of any kind (stocks, business sa
 le, or real estate) we’ll show you how this new tax law can help you
  defer, and in some cases completely erase, federal taxes… legally.\
 nWHAT IT IS An eye-opening, research driven look at one of the best ta
 x deductions for real estate investors ever. This tremendous new tax i
 ncentive is paving the way for gigantic profits for savvy investors.\n
 HOW INVESTORS BENEFIT If you are facing capital gains of any kind (sto
 cks, business sale, or real estate) we'll show you how this new tax la
 w can help you defer, and in some cases completely erase, federal taxe
 s... legally.\nWHAT AREAS QUALIFY The size of the opportunity zones is
  absolutely enormous. In fact, we are already investing in some of the
  designated areas because they are attrative even without the huge tax
  incentives.\n--------------------------------------- Wednesday, March
  20 6:30 PM PST\nNew York Life 9th Floor, 425 Market St · San Francis
 co, CA\nCLICK HERE TO REGISTER: https://www.meetup.com/MFinvestingMeet
 up/events/smsscpyzfbbc/\n---------------------------------------\nWHAT
  YOU'LL LEARN - The in's and out's of this relatively obscure tax ince
 ntive hidden in the tax reform package, and the recent change that is 
 causing it to take off.\n- How you can legally pay absolutely ZERO fed
 eral capital gains taxes when you take advantage of this huge tax ince
 ntive designed to encourage investment in specific communities.\n- Bes
 t strategies for unlocking maximum tax savings for real estate investo
 rs and apartment syndicators.\n- How you can sell highly appreciated p
 roperties in high price areas, and exchange them tax-deferred for high
 -income properties.\n--------------------------------------- Wednesday
 , March 20 6:30 PM PST\nNew York Life 9th Floor, 425 Market St · San 
 Francisco, CA\nCLICK HERE TO REGISTER: https://www.meetup.com/MFinvest
 ingMeetup/events/smsscpyzfbbc/\n--------------------------------------
 -\nMeet our Presenter:\nANNA MYERS Vice President\nGrocapitus Investme
 nts\nAnna Myers serves as Vice President at Grocapitus, a commercial r
 eal estate investment company in the San Francisco Bay Area. Anna is a
  modern entrepreneur who applies her 20+ years of experience in techno
 logy and business to the finding, analyzing and acquiring of Commercia
 l properties in key markets across the U.S. Together with her business
  partner Neal Bawa, they approach real estate as data scientists to cr
 eate compelling profits for 400+ investors.\nAs the lead underwriter f
 or the company, Anna also teaches deal analysis for MultifamilyU both 
 monthly via webinars as well as quarterly in MultifamilyU Boot Camps. 
 MultifamilyU is an apartment investing education company owned by the 
 principal Neal Bawa. Nearly 5,000 students attend his multifamily semi
 nar series each year and hundreds attend his Magic of Multifamily boot
  camps, which Anna is a co-host for many of the events.\n\nAnna Myers 
 also co-hosts a Real Estate Investor Meetup in the Bay Area with over 
 800 members. In addition, she is an AirBnB Superhost in two markets in
  the US. Related to Syndication, Anna and Neal have partnered together
  to purchase500+units of apartment projects in 2018, and are on track 
 for another 250units in Q1 of 2019\n\n\nFor more information visit htt
 ps://realty411mag.com/events/san-francisco-opportunity-zones-unprecede
 nted-new-real-estate
DTSTART;TZID=America/Los_Angeles:20190320T183000
DTEND;TZID=America/Los_Angeles:20190320T210000
CATEGORIES:meetup
LOCATION:New York Life 9th Floor
WEBSITE:https://www.meetup.com/MFinvestingMeetup/events/smsscpyzfbbc/
URL:https://www.meetup.com/MFinvestingMeetup/events/smsscpyzfbbc/
CONTACT:
ORGANIZER;CN="Neal Bawa":https://realty411mag.com/profile/NealBawa
ATTACH;FMTTYPE="image/jpeg":https://storage.ning.com/topology/rest/1.0
 /file/get/1442553514?profile=original
ATTENDEE;ROLE=REQ-PARTICIPANT;PARTSTAT=ACCEPTED;RSVP=TRUE;CN="Neal Baw
 a":https://realty411mag.com/profile/NealBawa
END:VEVENT
END:VCALENDAR
