BEGIN:VCALENDAR
PRODID:NingEventWidget-v1
VERSION:2.0
METHOD:PUBLISH
BEGIN:VTIMEZONE
TZID:America/Los_Angeles
X-LIC-LOCATION:America/Los_Angeles
BEGIN:DAYLIGHT
TZOFFSETFROM:-0800
TZOFFSETTO:-0700
TZNAME:PDT
DTSTART:19700308T020000
RRULE:FREQ=YEARLY;BYMONTH=3;BYDAY=2SU
END:DAYLIGHT
BEGIN:STANDARD
TZOFFSETFROM:-0700
TZOFFSETTO:-0800
TZNAME:PST
DTSTART:19701101T020000
RRULE:FREQ=YEARLY;BYMONTH=11;BYDAY=1SU
END:STANDARD
END:VTIMEZONE
BEGIN:VEVENT
UID:5727801:Event:57905
DTSTAMP:20260421T100638Z
SUMMARY:Robert Campbell's - The COMING Real Estate Crash
DESCRIPTION:The Coming Real Estate CRASH How to Call the Next \nHousin
 g Market Top!\nIncluding Tips on How to Safely Do Business in a Transi
 tioning Marketplace\nRobert Campbell & Michael Morrongiello Teaching T
 ogether!\n \nInterest Rates have Risen...\nSales are Cooling...\nMore 
 Inventory has crept on to the Market giving Buyers more Choices\nThe U
 rgency to Buy has waned\nRealtors are predicting a Flat 2019 Market- B
 UT should you believe them?\nIf you are speculating or in the property
  BUY/SELL Business it becomes even more crucial to understand developi
 ng trends.\nWould you like to know how to predict the peaks and valley
 s of the California real estate markets? Or how about knowing the best
  times to buy and sell real estate in 14 other major U.S. cities?\nWhe
 n to Buy...When to Sell. Data Speaks 10x more Loudly Than Opinions\nRo
 bert Campbell says \"Data Speaks Louder than Opinion's\" - He is a Dat
 a Guy, a Statistician and a Real Estate Economist. He studies and inte
 rprets the Data and THEN very accurately predicts tendencies and marke
 t direction leanings which are coming. What most people need is a simp
 le, easy-to-understand explanation of the (5) Five KEY leading indicat
 ors Robert tracks which tells him with an uncanny degree of precision 
 what’s going on in your local real estate market and the opportuniti
 es / options and direction you might take that is available to you.\nU
 p, Down, or Sideways? Are the SF Bay Area and CA Real Estate Markets o
 n Borrowed Time?\nOR Are we experiencing a short term bumpy road that 
 will straighten itself out?\nDon't Miss this VERY Timely Real Estate E
 ducational Event. Your Financial Future could very well depend on it.\
 nSpend a Full Day Day with Real Estate Economist,Statistician, and Aut
 hor Robert Campbell and Real Estate Investor, Educator and Author Mich
 ael Morrongiello.\nRISK COMES FROM NOT KNOWING WHAT YOU'RE DOING\nConf
 idence comes from knowledge, and knowledge about Market Trends and How
  to Safely Do Business in a Transitioning Marketplace and this is exac
 tly what Robert and Michael will give you at this workshop.\nLearn to 
 Thrive During this Turning Market!\nDuring the Day Michael will cover 
 several strategies and techniques that you can implement to SAFELY do 
 business in a Transitioning Marketplace.\nWHY Attend this Workshop Eve
 nt ? Because You Can't Lose!\nAll Attendees will receive a FULL YEARS 
 Subscription to Robert Campbells Real Estate Timing Letter (This is $1
 35 value)\nAre you Already a Timing Letter Subscriber? We'll ADD ONE F
 ULL year to your subscription\n(Again a $135 Value)\nWhen: All Day Sat
 . 1-19-2019\nWhere: Best Western Corte Madera Inn. 56 Madera Blvd, Cor
 te Madera, CA 94925\nGreat Networking with some of the Top Investors i
 n the State and from around the Country\nJoin the many attendees who w
 ill be at this event from ALL over California and the Western States.\
 nSeats are filling FAST for this class and we have limited space at th
 is meeting facility (over 20+ people have already PRE-registered!)\nFo
 r more Details, Lodging Info or to Register CLICK HERE\n\nFor more inf
 ormation visit https://realty411mag.com/events/robert-campbell-s-the-c
 oming-real-estate-crash
DTSTART;TZID=America/Los_Angeles:20190119T080000
DTEND;TZID=America/Los_Angeles:20190119T170000
CATEGORIES:education, workshop
LOCATION:Best Western Corte Madera Inn
WEBSITE:https://www.google.com/maps/dir/38.281216,-122.294272/best+wes
 tern+corte+madera/@38.0967232,-122.7009011,10z/data=!3m1!4b1!4m9!4m8!1
 m1!4e1!1m5!1m1!1s0x80859a8af10a07a5:0x8bc81928c71fec82!2m2!1d-122.5169
 62!2d37.930241
URL:https://www.google.com/maps/dir/38.281216,-122.294272/best+western
 +corte+madera/@38.0967232,-122.7009011,10z/data=!3m1!4b1!4m9!4m8!1m1!4
 e1!1m5!1m1!1s0x80859a8af10a07a5:0x8bc81928c71fec82!2m2!1d-122.516962!2
 d37.930241
CONTACT:707-996-6411
ORGANIZER;CN="Michael Morrongiello":https://realty411mag.com/profile/M
 ichaelMorrongiello
ATTACH;FMTTYPE="image/jpeg":
ATTENDEE;ROLE=REQ-PARTICIPANT;PARTSTAT=ACCEPTED;RSVP=TRUE;CN="Bruce M 
 Kellogg":https://realty411mag.com/profile/BruceMKellogg
ATTENDEE;ROLE=REQ-PARTICIPANT;PARTSTAT=ACCEPTED;RSVP=TRUE;CN="Michael 
 Morrongiello":https://realty411mag.com/profile/MichaelMorrongiello
END:VEVENT
END:VCALENDAR
