BEGIN:VCALENDAR
PRODID:NingEventWidget-v1
VERSION:2.0
METHOD:PUBLISH
BEGIN:VTIMEZONE
TZID:America/Los_Angeles
X-LIC-LOCATION:America/Los_Angeles
BEGIN:DAYLIGHT
TZOFFSETFROM:-0800
TZOFFSETTO:-0700
TZNAME:PDT
DTSTART:19700308T020000
RRULE:FREQ=YEARLY;BYMONTH=3;BYDAY=2SU
END:DAYLIGHT
BEGIN:STANDARD
TZOFFSETFROM:-0700
TZOFFSETTO:-0800
TZNAME:PST
DTSTART:19701101T020000
RRULE:FREQ=YEARLY;BYMONTH=11;BYDAY=1SU
END:STANDARD
END:VTIMEZONE
BEGIN:VEVENT
UID:5727801:Event:1840
DTSTAMP:20260421T112346Z
SUMMARY:Realty411 LIVE Webinar with MemphisInvest.com
DESCRIPTION:Hello Friends,\n\nMemphis, TN, has fast become one of the 
 hottest cities in America for real estate investors looking for positi
 ve cash-flow properties and there is ONE company head and shoulders ab
 ove the rest when it comes to providing!\n\nSpend 45 minutes with me, 
 Linda Pliagas, as I interview a company that is by far one of the BEST
  in the country at full service, true turn-key and absolutely passive 
 income production, MemphisInvest.com.\n\nLearn about this fantastic ci
 ty and why investors from around the country, and even the world, are 
 buying over 20 properties\na month with this great company!\n\nhttps:/
 /www2.gotomeeting.com/register/485676010\n\nWhen you add in all the \"
 value services\" that MemphisInvest offers it's clients, the opportuni
 ty to develop a positive monthly cash flow and a truly wealth-building
  portfolio is once in a lifetime...\n\nJoin us on Wednesday night for 
 a fantastic 45-minute interview with two of the owners of this family-
 operated Machine! Father and Son, Kent and Chris Clothier, will be wit
 h us for a jam-packed interview full of great info for all levels of r
 eal estate investing!\n\nThese guys are tops in the business and I can
 not wait to interview them LIVE! Grab your place on the call and regis
 ter today, no matter what your view is of buy & hold real estate, thes
 e guys know a few things we can all learn!\n\nhttps://www2.gotomeeting
 .com/register/485676010\n\nSee you then!\n\nLinda\n\nRESERVE YOUR SPOT
  TODAY, DON'T DELAY....\n\nFor more information visit https://realty41
 1mag.com/events/realty411-live-webinar-with
DTSTART;TZID=America/Los_Angeles:20100825T183000
DTEND;TZID=America/Los_Angeles:20100825T200000
CATEGORIES:question, and, answer, live, interview, webinar
LOCATION:ONLINE WEBINAR
WEBSITE:https://www2.gotomeeting.com/register/485676010
URL:https://www2.gotomeeting.com/register/485676010
CONTACT:310.499.9545
ORGANIZER;CN="Realty411 Magazine":https://realty411mag.com/profile/Rea
 lty411Magazine
ATTACH;FMTTYPE="image/jpeg":http://storage.ning.com/topology/rest/1.0/
 file/get/2052998985?profile=original
ATTENDEE;ROLE=REQ-PARTICIPANT;PARTSTAT=ACCEPTED;RSVP=TRUE;CN="Realty41
 1 Magazine":https://realty411mag.com/profile/Realty411Magazine
END:VEVENT
END:VCALENDAR
