BEGIN:VCALENDAR
PRODID:NingEventWidget-v1
VERSION:2.0
METHOD:PUBLISH
BEGIN:VTIMEZONE
TZID:America/Los_Angeles
X-LIC-LOCATION:America/Los_Angeles
BEGIN:DAYLIGHT
TZOFFSETFROM:-0800
TZOFFSETTO:-0700
TZNAME:PDT
DTSTART:19700308T020000
RRULE:FREQ=YEARLY;BYMONTH=3;BYDAY=2SU
END:DAYLIGHT
BEGIN:STANDARD
TZOFFSETFROM:-0700
TZOFFSETTO:-0800
TZNAME:PST
DTSTART:19701101T020000
RRULE:FREQ=YEARLY;BYMONTH=11;BYDAY=1SU
END:STANDARD
END:VTIMEZONE
BEGIN:VEVENT
UID:5727801:Event:25836
DTSTAMP:20260421T114159Z
SUMMARY:Realty411 Club Meeting... CA Deals for $15K!!!
DESCRIPTION:Hello, Realty411 Network Member;\nWe are hosting a wealth-
 building weeknight meeting & mixer to  learn how to buy California pro
 perties for as little as $15K!  Next, we are going to learn to sell it
  on eBay for a profit.  This simple 2-step process is one YOU need to 
 learn about!  FREE EVENT >>>\nhttp://realty411clubmeeting.eventbrite.c
 om/\n \nWith Special Guests:\nThe REIA directors from the Central Cal
 ifornia Coast\nPlus, Chris Bowser is flying in from Massachusetts!\n \
 n>> Chris can show you a hand’s off system for flipping properties\n
 right on eBay and also how to explode your buyer’s list using eBay. 
 <<\nReserve Your Seat Today As We Have LIMITED Space  FREE EVENT >>>\n
 http://realty411clubmeeting.eventbrite.com/\n\nFor more information vi
 sit https://realty411mag.com/events/realty411-club-meeting-ca-deals-fo
 r-15k
DTSTART;TZID=America/Los_Angeles:20120919T180000
DTEND;TZID=America/Los_Angeles:20120919T210000
CATEGORIES:realty411, club, meeting
LOCATION:Warner Center Marriot
WEBSITE:http://realty411clubmeeting.eventbrite.com/
URL:http://realty411clubmeeting.eventbrite.com/
CONTACT:310-499-9545
ORGANIZER;CN="Realty411 Magazine":https://realty411mag.com/profile/Rea
 lty411Magazine
ATTACH;FMTTYPE="image/jpeg":http://storage.ning.com/topology/rest/1.0/
 file/get/1979407322?profile=original
ATTENDEE;ROLE=REQ-PARTICIPANT;PARTSTAT=ACCEPTED;RSVP=TRUE;CN="Realty41
 1 Magazine":https://realty411mag.com/profile/Realty411Magazine
END:VEVENT
END:VCALENDAR
