BEGIN:VCALENDAR
PRODID:NingEventWidget-v1
VERSION:2.0
METHOD:PUBLISH
BEGIN:VTIMEZONE
TZID:America/Los_Angeles
X-LIC-LOCATION:America/Los_Angeles
BEGIN:DAYLIGHT
TZOFFSETFROM:-0800
TZOFFSETTO:-0700
TZNAME:PDT
DTSTART:19700308T020000
RRULE:FREQ=YEARLY;BYMONTH=3;BYDAY=2SU
END:DAYLIGHT
BEGIN:STANDARD
TZOFFSETFROM:-0700
TZOFFSETTO:-0800
TZNAME:PST
DTSTART:19701101T020000
RRULE:FREQ=YEARLY;BYMONTH=11;BYDAY=1SU
END:STANDARD
END:VTIMEZONE
BEGIN:VEVENT
UID:5727801:Event:59060
DTSTAMP:20260421T160417Z
SUMMARY:Real Estate Investors can Lower Your Income Tax with Cost Segr
 egation
DESCRIPTION:Join our guest presenter Yonah Weiss, Business Director at
  Madison SPECS, online as he explains what Cost Segregartion is and ho
 w investors can benefit from it. Also learn how this amazing income ta
 x benefit impacts real estate professionals differently than everyone 
 else.\nDISCOVER: What is Cost Segregation?\nWho should do a Cost Segre
 gation Study and when is the best time to do it?\nWhat is the new tax 
 law 100% Bonus Depreciation?\n------------------------------- TUES MAR
 CH 26 @ 4:00 PM PACIFIC\nCLICK HERE TO REGISTER: https://multifamilyu.
 com/cost_segregation\n-------------------------------\nWHAT YOU'LL LEA
 RN: - Understand Cost Segregation and the basics of Depreciation\n- Ho
 w Passive investors, Active investors and syndicators can benefit from
  Cost Segregation?\n- What are the Principal Elements of a quality Cos
 t Segregation Case Study?\n- How this amazing income tax benefit impac
 ts real estate professionals differently than everyone else?\n- Bonus 
 Case Study: Stepping into the shoes of a Multifamily Property Owner\nM
 EET YOUR PRESENTERS:\nYONAH WEISS Business Director at Madison SPECS\n
 Yonah is a powerhouse with property owners' tax savings. As Business D
 irector at Madison SPECS, a national Cost Segregation leader, he has a
 ssisted clients in saving tens of millions of dollars on taxes through
  cost segregation. He has a background in teaching and a passion for r
 eal estate and helping others.\nNEAL BAWA  Founder and CEO, Multifamil
 yU\nNeal Bawa is CEO / Founder at Grocapitus, a commercial real estate
  investment company. Neal sources, negotiates and acquires Commercial 
 properties across the U.S., for 300+ investors. Current portfolio over
  1800 units/beds, projected to be at 3,000 in 12 months. The portfolio
  includes Multifamily and student housing properties in 8 U.S. states.
 \nNeal speaks at Multifamily events, IRA events & meetups across the c
 ountry. Nearly 4,000 students attend his multifamily seminar series ea
 ch year and hundreds attend his Magic of Multifamily boot camps. Neal 
 is the co-founder of the largest Multifamily Investing Meetup network 
 in the U.S. (BAMF), a group of investors that has over 4000 members.\n
 Neal is a backyard tomato farmer and a protein diet health nut. He bel
 ieves in positivity and Karma, is passionate about cricket and about t
 he enormous potential of self-driving electric vehicles to solve the g
 lobal climate crisis.\n------------------------------- TUES MARCH 26 @
  4:00 PM PACIFIC\nCLICK HERE TO REGISTER: https://multifamilyu.com/cos
 t_segregation\n-------------------------------\n\nFor more information
  visit https://realty411mag.com/events/real-estate-investors-can-lower
 -your-income-tax-with-cost
DTSTART;TZID=America/Los_Angeles:20190326T160000
DTEND;TZID=America/Los_Angeles:20190326T170000
CATEGORIES:online, webinar
LOCATION:https://multifamilyu.com/cost_segregation
WEBSITE:https://multifamilyu.com/cost_segregation
URL:https://multifamilyu.com/cost_segregation
CONTACT:
ORGANIZER;CN="Neal Bawa":https://realty411mag.com/profile/NealBawa
ATTACH;FMTTYPE="image/jpeg":https://storage.ning.com/topology/rest/1.0
 /file/get/1521384230?profile=original
ATTENDEE;ROLE=REQ-PARTICIPANT;PARTSTAT=ACCEPTED;RSVP=TRUE;CN="Neal Baw
 a":https://realty411mag.com/profile/NealBawa
END:VEVENT
END:VCALENDAR
