BEGIN:VCALENDAR
PRODID:NingEventWidget-v1
VERSION:2.0
METHOD:PUBLISH
BEGIN:VTIMEZONE
TZID:America/Los_Angeles
X-LIC-LOCATION:America/Los_Angeles
BEGIN:DAYLIGHT
TZOFFSETFROM:-0800
TZOFFSETTO:-0700
TZNAME:PDT
DTSTART:19700308T020000
RRULE:FREQ=YEARLY;BYMONTH=3;BYDAY=2SU
END:DAYLIGHT
BEGIN:STANDARD
TZOFFSETFROM:-0700
TZOFFSETTO:-0800
TZNAME:PST
DTSTART:19701101T020000
RRULE:FREQ=YEARLY;BYMONTH=11;BYDAY=1SU
END:STANDARD
END:VTIMEZONE
BEGIN:VEVENT
UID:5727801:Event:58518
DTSTAMP:20260422T033641Z
SUMMARY:Real Estate Investor Networking.
DESCRIPTION:This event is for ACCREDITED INVESTORS, brought to you by 
 OceanCapital.fund\n\nFor more information visit https://realty411mag.c
 om/events/real-estate-investor-networking
DTSTART;TZID=America/Los_Angeles:20190227T173000
DTEND;TZID=America/Los_Angeles:20190227T200000
CATEGORIES:networking
LOCATION:Nellie Gail Ranch
WEBSITE:https://www.eventbrite.com/e/investor-networking-mixer-nellie-
 gail-tickets-55671884104
URL:https://www.eventbrite.com/e/investor-networking-mixer-nellie-gail
 -tickets-55671884104
CONTACT:
ORGANIZER:Ocean Capital
ATTACH;FMTTYPE="image/jpeg":
ATTENDEE;ROLE=REQ-PARTICIPANT;PARTSTAT=ACCEPTED;RSVP=TRUE;CN="Kaaren H
 all":https://realty411mag.com/profile/KaarenHall601
ATTENDEE;ROLE=REQ-PARTICIPANT;PARTSTAT=ACCEPTED;RSVP=TRUE;CN=Dave:http
 s://realty411mag.com/profile/Dave468
END:VEVENT
END:VCALENDAR
