BEGIN:VCALENDAR
PRODID:NingEventWidget-v1
VERSION:2.0
METHOD:PUBLISH
BEGIN:VTIMEZONE
TZID:America/Los_Angeles
X-LIC-LOCATION:America/Los_Angeles
BEGIN:DAYLIGHT
TZOFFSETFROM:-0800
TZOFFSETTO:-0700
TZNAME:PDT
DTSTART:19700308T020000
RRULE:FREQ=YEARLY;BYMONTH=3;BYDAY=2SU
END:DAYLIGHT
BEGIN:STANDARD
TZOFFSETFROM:-0700
TZOFFSETTO:-0800
TZNAME:PST
DTSTART:19701101T020000
RRULE:FREQ=YEARLY;BYMONTH=11;BYDAY=1SU
END:STANDARD
END:VTIMEZONE
BEGIN:VEVENT
UID:5727801:Event:30808
DTSTAMP:20260421T100818Z
SUMMARY:Real Estate and Alternative Investment Conference - Register b
 y June 16 for Early Bird Pricing
DESCRIPTION:Equity University is hosting the largest Alternative Inves
 tment Conference in the industry. Learn how to purchase Real Estate in
  an IRA - minimize taxes! Over 40 educational sessions, renowned exper
 ts, and 600 + investors. The event will be held in Orlando, September 
 19-23, 2013. Get $100 off your registration with promo code MLLinked. 
 For more information and to register visit www.trustetc.com/2013-netwo
 rking-conference/\n\nFor more information visit https://realty411mag.c
 om/events/real-estate-and-alternative-investment-conference-register-b
 y
DTSTART;TZID=America/Los_Angeles:20130919T200000
DTEND;TZID=America/Los_Angeles:20130923T160000
CATEGORIES:education, and, networking
LOCATION:Omni ChampionsGate
WEBSITE:
URL:
CONTACT:
ORGANIZER;CN=Michelle:https://realty411mag.com/profile/Michelle
ATTACH;FMTTYPE="image/jpeg":
ATTENDEE;ROLE=REQ-PARTICIPANT;PARTSTAT=ACCEPTED;RSVP=TRUE;CN="Westley 
 Stump":https://realty411mag.com/profile/WestleyStump
ATTENDEE;ROLE=REQ-PARTICIPANT;PARTSTAT=ACCEPTED;RSVP=TRUE;CN="Realty41
 1 Magazine":https://realty411mag.com/profile/Realty411Magazine
ATTENDEE;ROLE=REQ-PARTICIPANT;PARTSTAT=ACCEPTED;RSVP=TRUE;CN=Michelle:
 https://realty411mag.com/profile/Michelle
END:VEVENT
END:VCALENDAR
