BEGIN:VCALENDAR
PRODID:NingEventWidget-v1
VERSION:2.0
METHOD:PUBLISH
BEGIN:VTIMEZONE
TZID:America/Los_Angeles
X-LIC-LOCATION:America/Los_Angeles
BEGIN:DAYLIGHT
TZOFFSETFROM:-0800
TZOFFSETTO:-0700
TZNAME:PDT
DTSTART:19700308T020000
RRULE:FREQ=YEARLY;BYMONTH=3;BYDAY=2SU
END:DAYLIGHT
BEGIN:STANDARD
TZOFFSETFROM:-0700
TZOFFSETTO:-0800
TZNAME:PST
DTSTART:19701101T020000
RRULE:FREQ=YEARLY;BYMONTH=11;BYDAY=1SU
END:STANDARD
END:VTIMEZONE
BEGIN:VEVENT
UID:5727801:Event:10005
DTSTAMP:20260421T113423Z
SUMMARY:Quite Title Seminar
DESCRIPTION:Investors, let us show you how to use quite title, useful 
 in exposing the note; who's the owner or even if one excist. We have d
 one over six years on this program. Every investor and Attorney should
  get in this program. We show how to win in court and educate you to b
 e able to expose the banks.\nIn Los Angeles, Orange County and San Dei
 go in Aug.\n\nFor imformation; jeff@jgrelief.com\nSeating is limited:\
 n\nFor more information visit https://realty411mag.com/events/quite-ti
 tle-seminar
DTSTART;TZID=America/Los_Angeles:20110625T180000
DTEND;TZID=America/Los_Angeles:20110625T190000
CATEGORIES:education, seminar
LOCATION:Los Angeles, Orange County and San Deigo.
WEBSITE:
URL:
CONTACT:
ORGANIZER;CN="Jeff Guilfoyle":https://realty411mag.com/profile/JeffGui
 lfoyle
ATTACH;FMTTYPE="image/jpeg":
ATTENDEE;ROLE=REQ-PARTICIPANT;PARTSTAT=ACCEPTED;RSVP=TRUE;CN="Jeff Gui
 lfoyle":https://realty411mag.com/profile/JeffGuilfoyle
END:VEVENT
END:VCALENDAR
