BEGIN:VCALENDAR
PRODID:NingEventWidget-v1
VERSION:2.0
METHOD:PUBLISH
BEGIN:VTIMEZONE
TZID:America/Los_Angeles
X-LIC-LOCATION:America/Los_Angeles
BEGIN:DAYLIGHT
TZOFFSETFROM:-0800
TZOFFSETTO:-0700
TZNAME:PDT
DTSTART:19700308T020000
RRULE:FREQ=YEARLY;BYMONTH=3;BYDAY=2SU
END:DAYLIGHT
BEGIN:STANDARD
TZOFFSETFROM:-0700
TZOFFSETTO:-0800
TZNAME:PST
DTSTART:19701101T020000
RRULE:FREQ=YEARLY;BYMONTH=11;BYDAY=1SU
END:STANDARD
END:VTIMEZONE
BEGIN:VEVENT
UID:5727801:Event:26416
DTSTAMP:20260421T084121Z
SUMMARY:Opulent October Halloween BASH!
DESCRIPTION:LLoSD is proud to announce another rare event, at this mon
 th’s real estate investor meeting. Have you ever wondered what you w
 ould get if you mixed an “active” real estate investor, a broker o
 f record and a real estate attorney?!  Well come on down to our Opul
 ent October Halloween Bash, Tuesday the 30th (the night before the g
 oblins are out) 6:30pm at the Holiday Inn and find out!\nSpencer Lugas
 h Esq., affectionately known as the Short Sale Counselor, will be here
  to share his experiences, educate our members and field questions abo
 ut the legal and practical issues surrounding real estate investing 
 and short sale management. Mr. Lugash brings over 14 years of experien
 ce with him in legal compliance, contracts and disclosures, loss mitig
 ation (short sales, loan modifications) and investor protection strate
 gies to our stage. He currently works with homeowners, investors and 
 real estate agents, advising them on the legal and practical issues su
 rrounding loss mitigation options, particularly short sales. As one o
 f the owners of San Diego’s fastest growing flat fee real estate bro
 kerage, Big Block Realty and of The Lugash Law Center,  Mr. Lugash
  has seen just about everything.\nReal Estate has been at the cornerst
 one of Mr. Lugash’s practice since 1998, he brings a wealth of exper
 ience to real estate transactions of all types, levels and complexity.
 \nCome and learn about:\nLandlord rights\nStop by and pick the brain o
 f a REAL estate attorney on us!\nPlease bring your questions and scena
 rios. This will be an interactive Q&A session, an opportunity for you 
 to get \"real\" with one of California’s most successful real estate
  investors.Join us for an evening bash with wine, music, education, de
 al sharing and real estate strategy sessions. We have created a fun, r
 elaxed environment where women can inquire, share, and bounce around c
 reative ideas to address the 3 Ts. (TOILETS, TENANTS, & TRASH).As prop
 erty owners, we all face similar challenges, and goals no matter the r
 egion. Experienced and inexperienced REAL ESTATE investors with rental
  property in CA or out of state are welcomed. This group is for women 
 and the GENTLEMEN who love them! Come one come all, it's Pau Hana Time
 !REFRESHMENTS WILL BE SERVED!!This event like all of our events is whe
 elchair accessible.\nAdmission/Door fee : $20.00\n$15.00 if prepaid (m
 eetup.com/website)\nSpencer Lugashis a versatile professional with mor
 e than 14  years of business and legal experience. After graduating 
 from Pepperdine University School of Law, Spencer went on to practice 
 law in areas of health care, real estate & business. He is a licensed 
 California Real Estate Broker who has owned his own real estate compan
 y and served as in-house counsel and general counsel for a number of o
 ther real estate Brokerages and investment companies. Spencer has work
 ed with Clients and Employers in handling a range of business and real
  estate matters from simple negotiations to complex business formation
  and deal structuring.  Spencer has been seen on local news programs 
 and served as a legal expert on the 760 KFMB talk radio program The Mo
 ney Maker’s for over a year.  Currently, Spencer remains at the for
 efront of understanding Lender liability, Homeowner rights, and real e
 state law in general.  Spencer represents and advises individuals and
  businesses and acts as general counsel for many San Diego real estate
  companies. Spencer can also be found on San Diegos ESPN 1700 talk ra
 dio fielding real estate questions.\n \n\nFor more information visit 
 https://realty411mag.com/events/opulent-october-halloween-bash
DTSTART;TZID=America/Los_Angeles:20121030T183000
DTEND;TZID=America/Los_Angeles:20121030T210000
CATEGORIES:education, seminar, investing, presentation
LOCATION:Holiday Inn Murphy Canyon
WEBSITE:http://www.meetup.com/Lady-Landlords-of-San-Diego/events/84808
 562/
URL:http://www.meetup.com/Lady-Landlords-of-San-Diego/events/84808562/
CONTACT:(760) 896-4808
ORGANIZER;CN="Lady Landlords of San Diego":https://realty411mag.com/pr
 ofile/MsJasmineRWillois
ATTACH;FMTTYPE="image/jpeg":http://storage.ning.com/topology/rest/1.0/
 file/get/2052999561?profile=original
ATTENDEE;ROLE=REQ-PARTICIPANT;PARTSTAT=ACCEPTED;RSVP=TRUE;CN="Lady Lan
 dlords of San Diego":https://realty411mag.com/profile/MsJasmineRWilloi
 s
END:VEVENT
END:VCALENDAR
