BEGIN:VCALENDAR
PRODID:NingEventWidget-v1
VERSION:2.0
METHOD:PUBLISH
BEGIN:VTIMEZONE
TZID:America/Los_Angeles
X-LIC-LOCATION:America/Los_Angeles
BEGIN:DAYLIGHT
TZOFFSETFROM:-0800
TZOFFSETTO:-0700
TZNAME:PDT
DTSTART:19700308T020000
RRULE:FREQ=YEARLY;BYMONTH=3;BYDAY=2SU
END:DAYLIGHT
BEGIN:STANDARD
TZOFFSETFROM:-0700
TZOFFSETTO:-0800
TZNAME:PST
DTSTART:19701101T020000
RRULE:FREQ=YEARLY;BYMONTH=11;BYDAY=1SU
END:STANDARD
END:VTIMEZONE
BEGIN:VEVENT
UID:5727801:Event:56755
DTSTAMP:20260421T113321Z
SUMMARY:Opportunity Zones: Unprecedented New Real Estate Tax Strategy
DESCRIPTION:Join popular presenter and multifamily expert Neal Bawa wi
 th his guest presenter Matt Ryan for 60+ minutes of eye opening real e
 state learning.\nWHAT IT IS An eye-opening, research driven look at on
 e of the best tax deductions for real estate investors ever. This trem
 endous new tax incentive is paving the way for gigantic profits for sa
 vvy investors.\nHOW INVESTORS BENEFIT If you are facing capital gains 
 of any kind (stocks, business sale, or real estate) we'll show you how
  this new tax law can help you defer, and in some cases completely era
 se, federal taxes... legally.\nWHAT AREAS QUALIFY The size of the oppo
 rtunity zones is absolutely enormous. In fact, we are already investin
 g in some of the designated areas because they are attrative even with
 out the huge tax incentives.\n----------------------------------------
 --------- Monday, November 19, 6 PM PST\nClick Here to Register\n-----
 ---------------------------------------------\nWHAT YOU'LL LEARN - The
  in's and out's of this relatively obscure tax incentive hidden in the
  tax reform package, and the recent change that is causing it to take 
 off.\n- How you can legally pay absolutely ZERO federal capital gains 
 taxes when you take advantage of this huge tax incentive designed to e
 ncourage investment in specific communities.\n- Best strategies for un
 locking maximum tax savings for real estate investors and apartment sy
 ndicators.\n- How you can sell highly appreciated properties in high p
 rice areas, and exchange them tax-deferred for high-income properties.
 \n------------------------------------------------- Monday, November 1
 9, 6PM PST\nClick Here to Register\n----------------------------------
 ----------------\n MEET YOUR PRESENTERS:\nNEAL BAWA (Founder and CEO, 
 MultifamilyU) Neal owns and manages an extensive real estate single fa
 mily and multifamily portfolio in 7 U.S. States. Neal often speaks at 
 Multifamily events, IRA events & meetups across the country. Nearly 2,
 000 students attend his multifamily seminar series each year and hundr
 eds attend his Multifamily boot camps. He is the co-founder of the lar
 gest Multifamily Investing Meetup in the U.S. (BAMF), with 3000 member
 s. He leads the company and is driving the syndication and acquisition
  of multifamily properties. Neal's past experience includes 17 years o
 f revenue (P&L) experience as the senior-most executive in a Californi
 a education company with over 350 employees and $40MM in revenue.\nNea
 l is a backyard tomato farmer and a protein diet health nut. He believ
 es in positivity and Karma, is passionate about cricket and about the 
 enormous potential of self-driving electric vehicles to solve the glob
 al climate crisis.\nMATT RYAN (Founder, Re-Viv) Matt Ryan is an entrep
 reneur now on his second social impact based company. He has an extens
 ive background in construction and building technology having worked a
 cross multiple sectors: new and existing residential and multifamily b
 uildings, light commercial in addition to research and grant work with
  non-profits and public utilities.\nRe-viv is a real estate investment
  company that focuses on addressing market inefficiencies in community
  revitalization work. We provide profitable investments for our stakeh
 olders while improving the communities we serve.\nIn his spare time, M
 att is an avid outdoorsman, Father and active housing policy and build
 ing technology advocate.\n\nFor more information visit https://realty4
 11mag.com/events/opportunity-zones-unprecedented-new-real-estate-tax-s
 trategy
DTSTART;TZID=America/Los_Angeles:20181119T180000
DTEND;TZID=America/Los_Angeles:20181119T190000
CATEGORIES:online, webinar
LOCATION:http://www.multifamilyu.com/opportunityzones
WEBSITE:
URL:
CONTACT:
ORGANIZER;CN="Neal Bawa":https://realty411mag.com/profile/NealBawa
ATTACH;FMTTYPE="image/jpeg":http://storage.ning.com/topology/rest/1.0/
 file/get/1442575377?profile=original
ATTENDEE;ROLE=REQ-PARTICIPANT;PARTSTAT=ACCEPTED;RSVP=TRUE;CN="Neal Baw
 a":https://realty411mag.com/profile/NealBawa
END:VEVENT
END:VCALENDAR
