BEGIN:VCALENDAR
PRODID:NingEventWidget-v1
VERSION:2.0
METHOD:PUBLISH
BEGIN:VTIMEZONE
TZID:America/Los_Angeles
X-LIC-LOCATION:America/Los_Angeles
BEGIN:DAYLIGHT
TZOFFSETFROM:-0800
TZOFFSETTO:-0700
TZNAME:PDT
DTSTART:19700308T020000
RRULE:FREQ=YEARLY;BYMONTH=3;BYDAY=2SU
END:DAYLIGHT
BEGIN:STANDARD
TZOFFSETFROM:-0700
TZOFFSETTO:-0800
TZNAME:PST
DTSTART:19701101T020000
RRULE:FREQ=YEARLY;BYMONTH=11;BYDAY=1SU
END:STANDARD
END:VTIMEZONE
BEGIN:VEVENT
UID:5727801:Event:58306
DTSTAMP:20260421T114307Z
SUMMARY:Opportunity Zones: Unprecedented New Real Estate Tax Strategy
DESCRIPTION:Join popular presenter and multifamily expert Neal Bawa fo
 r 60+ minutes of eye opening real estate learning.\nWHAT IT IS An eye-
 opening, research driven look at one of the best tax deductions for re
 al estate investors ever. This tremendous new tax incentive is paving 
 the way for gigantic profits for savvy investors.\nHOW INVESTORS BENEF
 IT If you are facing capital gains of any kind (stocks, business sale,
  or real estate) we'll show you how this new tax law can help you defe
 r, and in some cases completely erase, federal taxes... legally.\nWHAT
  AREAS QUALIFY The size of the opportunity zones is absolutely enormou
 s. In fact, we are already investing in some of the designated areas b
 ecause they are attrative even without the huge tax incentives.\n-----
 -------------------------------------------- Monday, February 4th, 6PM
  PST\nClick Here to Register: https://multifamilyu.com/opportunityzone
 s/\n--------------------------------------------------\n***Can't atten
 d live? No worries! Sign up and get the video replay via email.***\nWH
 AT YOU'LL LEARN ~ The in's and out's of this relatively obscure tax in
 centive hidden in the tax reform package, and the recent change that i
 s causing it to take off.\n~ How you can legally pay absolutely ZERO f
 ederal capital gains taxes when you take advantage of this huge tax in
 centive designed to encourage investment in specific communities.\n~ B
 est strategies for unlocking maximum tax savings for real estate inves
 tors and apartment syndicators.\n~ How you can sell highly appreciated
  properties in high price areas, and exchange them tax-deferred for hi
 gh-income properties.\n-----------------------------------------------
 -- Monday, February 4th, 6PM PST\nClick Here to Register: https://mult
 ifamilyu.com/opportunityzones/\n--------------------------------------
 ------------\nMeet Our Presenter:\nNEAL BAWA Founder and CEO, Multifam
 ilyU\nNeal owns and manages an extensive real estate single family and
  multifamily portfolio in 7 U.S. States. Neal often speaks at Multifam
 ily events, IRA events & meetups across the country. Nearly 2,000 stud
 ents attend his multifamily seminar series each year and hundreds atte
 nd his Multifamily boot camps. He is the co-founder of the largest Mul
 tifamily Investing Meetup in the U.S. (BAMF), with 3000 members. He le
 ads the company and is driving the syndication and acquisition of mult
 ifamily properties. Neal’s past experience includes 17 years of reve
 nue (P&L) experience as the senior-most executive in a California educ
 ation company with over 350 employees and $40MM in revenue.\nNeal is a
  backyard tomato farmer and a protein diet health nut. He believes in 
 positivity and Karma, is passionate about cricket and about the enormo
 us potential of self-driving electric vehicles to solve the global cli
 mate crisis.\n***Can't attend live? No worries! Sign up and get the vi
 deo replay via email.***\n\nFor more information visit https://realty4
 11mag.com/events/opportunity-zones-unprecedented-new-real-estate-tax-s
 trategy-2
DTSTART;TZID=America/Los_Angeles:20190204T180000
DTEND;TZID=America/Los_Angeles:20190204T190000
CATEGORIES:online, webinar
LOCATION:https://multifamilyu.com/opportunityzones/
WEBSITE:https://multifamilyu.com/opportunityzones/
URL:https://multifamilyu.com/opportunityzones/
CONTACT:
ORGANIZER;CN="Neal Bawa":https://realty411mag.com/profile/NealBawa
ATTACH;FMTTYPE="image/jpeg":https://storage.ning.com/topology/rest/1.0
 /file/get/882212172?profile=original
ATTENDEE;ROLE=REQ-PARTICIPANT;PARTSTAT=ACCEPTED;RSVP=TRUE;CN="Neal Baw
 a":https://realty411mag.com/profile/NealBawa
END:VEVENT
END:VCALENDAR
