BEGIN:VCALENDAR
PRODID:NingEventWidget-v1
VERSION:2.0
METHOD:PUBLISH
BEGIN:VTIMEZONE
TZID:America/Los_Angeles
X-LIC-LOCATION:America/Los_Angeles
BEGIN:DAYLIGHT
TZOFFSETFROM:-0800
TZOFFSETTO:-0700
TZNAME:PDT
DTSTART:19700308T020000
RRULE:FREQ=YEARLY;BYMONTH=3;BYDAY=2SU
END:DAYLIGHT
BEGIN:STANDARD
TZOFFSETFROM:-0700
TZOFFSETTO:-0800
TZNAME:PST
DTSTART:19701101T020000
RRULE:FREQ=YEARLY;BYMONTH=11;BYDAY=1SU
END:STANDARD
END:VTIMEZONE
BEGIN:VEVENT
UID:5727801:Event:56798
DTSTAMP:20260421T114317Z
SUMMARY:Opportunity Zones: Unprecedented New Real Estate Tax Strategy
DESCRIPTION:Join popular presenter and multifamily expert Neal Bawa wi
 th his guest presenter Matt Ryan for 60+ minutes of eye opening real e
 state learning.\nWHAT IT IS An eye-opening, research driven look at on
 e of the best tax deductions for real estate investors ever. This trem
 endous new tax incentive is paving the way for gigantic profits for sa
 vvy investors.\nHOW INVESTORS BENEFIT If you are facing capital gains 
 of any kind (stocks, business sale, or real estate) we'll show you how
  this new tax law can help you defer, and in some cases completely era
 se, federal taxes... legally.\nWHAT AREAS QUALIFY The size of the oppo
 rtunity zones is absolutely enormous. In fact, we are already investin
 g in some of the designated areas because they are attrative even with
 out the huge tax incentives.\n----------------------------------------
 --------- Monday, December 10th, 6PM PST\nClick Here to Register \nhtt
 ps://multifamilyu.com/opportunityzones?ref=realty411&campaign=oppzones
 -webinar-ad\n--------------------------------------------------\nWHAT 
 YOU'LL LEARN - The in's and out's of this relatively obscure tax incen
 tive hidden in the tax reform package, and the recent change that is c
 ausing it to take off.\n- How you can legally pay absolutely ZERO fede
 ral capital gains taxes when you take advantage of this huge tax incen
 tive designed to encourage investment in specific communities.\n- Best
  strategies for unlocking maximum tax savings for real estate investor
 s and apartment syndicators.\n- How you can sell highly appreciated pr
 operties in high price areas, and exchange them tax-deferred for high-
 income properties.\n------------------------------------------------- 
 Monday, December 10th, 6PM PST\nClick Here to Register:\nhttps://multi
 familyu.com/opportunityzones?ref=realty411&campaign=oppzones-webinar-a
 d\n--------------------------------------------------\nMEET YOUR PRESE
 NTER:\nNEAL BAWA (Founder and CEO, MultifamilyU) Neal owns and manages
  an extensive real estate single family and multifamily portfolio in 7
  U.S. States. Neal often speaks at Multifamily events, IRA events & me
 etups across the country. Nearly 2,000 students attend his multifamily
  seminar series each year and hundreds attend his Multifamily boot cam
 ps. He is the co-founder of the largest Multifamily Investing Meetup i
 n the U.S. (BAMF), with 3000 members. He leads the company and is driv
 ing the syndication and acquisition of multifamily properties. Neal’
 s past experience includes 17 years of revenue (P&L) experience as the
  senior-most executive in a California education company with over 350
  employees and $40MM in revenue.\nNeal is a backyard tomato farmer and
  a protein diet health nut. He believes in positivity and Karma, is pa
 ssionate about cricket and about the enormous potential of self-drivin
 g electric vehicles to solve the global climate crisis.\n\nFor more in
 formation visit https://realty411mag.com/events/opportunity-zones-unpr
 ecedented-new-real-estate-tax-strategy-1
DTSTART;TZID=America/Los_Angeles:20181210T180000
DTEND;TZID=America/Los_Angeles:20181210T190000
CATEGORIES:online, webinar
LOCATION:https://multifamilyu.com/opportunityzones?ref=realty411&amp;c
 ampaign=oppzones-webinar-ad
WEBSITE:https://multifamilyu.com/opportunityzones?ref=realty411&amp;am
 p;campaign=oppzones-webinar-ad
URL:https://multifamilyu.com/opportunityzones?ref=realty411&amp;amp;ca
 mpaign=oppzones-webinar-ad
CONTACT:
ORGANIZER;CN="Neal Bawa":https://realty411mag.com/profile/NealBawa
ATTACH;FMTTYPE="image/jpeg":https://storage.ning.com/topology/rest/1.0
 /file/get/223447671?profile=original
ATTENDEE;ROLE=REQ-PARTICIPANT;PARTSTAT=ACCEPTED;RSVP=TRUE;CN="Neal Baw
 a":https://realty411mag.com/profile/NealBawa
END:VEVENT
END:VCALENDAR
