BEGIN:VCALENDAR
PRODID:NingEventWidget-v1
VERSION:2.0
METHOD:PUBLISH
BEGIN:VTIMEZONE
TZID:America/Los_Angeles
X-LIC-LOCATION:America/Los_Angeles
BEGIN:DAYLIGHT
TZOFFSETFROM:-0800
TZOFFSETTO:-0700
TZNAME:PDT
DTSTART:19700308T020000
RRULE:FREQ=YEARLY;BYMONTH=3;BYDAY=2SU
END:DAYLIGHT
BEGIN:STANDARD
TZOFFSETFROM:-0700
TZOFFSETTO:-0800
TZNAME:PST
DTSTART:19701101T020000
RRULE:FREQ=YEARLY;BYMONTH=11;BYDAY=1SU
END:STANDARD
END:VTIMEZONE
BEGIN:VEVENT
UID:5727801:Event:55592
DTSTAMP:20260421T075813Z
SUMMARY:Opportunities and Pitfalls in Today's Evolving Market Workshop
DESCRIPTION:Opportunities & Pitfalls In Today’s Evolving Market (wit
 h Peter Fortunato & John Schaub)   What is Going on with this Real Est
 ate Market?  * Economic Policies Seem to be working... * Our Economy i
 s on Fire! * The Stock Market has been setting Records * Consumer Conf
 idence is at an All time high * Unemployment levels are at 50+ Year Lo
 ws * Interest Rates are Still Historically Low  However Real Estate In
 ventory has been steadily increasing,Days on the Market are getting Lo
 nger for properties to Sell and prices are starting to Soften...  WHY 
 are So Many Real Estate Markets Around the Country Showing signs of St
 ress?  Up, Down, or Sideways- There are Opportunities to be found in e
 ach of these Real Estate Market scenario's  Don't Miss this BLOCKBUSTE
 R Real Estate Educational Event of the Year!\nSpend Two Full Days with
  these (2) TWO Legendary \"Master Deal Makers\" as they teach together
 .   Don’t miss this rare West Coast SF Bay Area Visit!\nJohn Schaub 
 and Peter Fortunato have survived eight Presidents, five recessions, a
 nd three major tax law changes as full time investors. They teach from
  “in the trenches” experience, and share both their successes and 
 mistakes to help you prosper and avoid major setbacks.\nTime Tested St
 rategies and Tactics from Starting Out to SPENDING and INVESTING your 
 hard earned $$ Dollars   Do you think that we might be near the top of
  the market?\nAre you having trouble finding deals that make sense tod
 ay? At the top of the last market, I paid all cash for a house that I 
 thought was a bargain. Unfortunately prices plummeted and I ended up s
 elling for a large loss. It was an expensive seminar.\nThe housing mar
 ket has been strong for more than five years in many markets. We may n
 earing the Top of a \"Frothy\" housing market cycle OR we may see seve
 ral more years of growth. As we near the top, buying correctly, with t
 he right structure, paperwork, and without liability for debt becomes 
 more important.\nJoin Peter and John and learn their latest strategies
  for buying, financing and managing property in a rapidly changing and
  Evolving market.You will receive a comprehensive class workbook with 
 strategies and details of the transactions.\nFor more Details about th
 e Workshop, Lodging, or to Register; CLICK HERE\n\nFor more informatio
 n visit https://realty411mag.com/events/opportunities-amp-pitfalls-in-
 today-s-market-workshop
DTSTART;TZID=America/Los_Angeles:20181020T090000
DTEND;TZID=America/Los_Angeles:20181021T090000
CATEGORIES:education, workshop
LOCATION:South San Francisco Conference Center
WEBSITE:https://www.google.com/maps/place/S+Airport+Blvd+and+Ramada+In
 n/@37.6472942,-122.4075587,17z/data=!3m1!4b1!4m5!3m4!1s0x808f79b473e92
 17f:0x25443256d9b83a7e!8m2!3d37.64729!4d-122.40537
URL:https://www.google.com/maps/place/S+Airport+Blvd+and+Ramada+Inn/@3
 7.6472942,-122.4075587,17z/data=!3m1!4b1!4m5!3m4!1s0x808f79b473e9217f:
 0x25443256d9b83a7e!8m2!3d37.64729!4d-122.40537
CONTACT:650-877-8787
ORGANIZER;CN="Michael Morrongiello":https://realty411mag.com/profile/M
 ichaelMorrongiello
ATTACH;FMTTYPE="image/jpeg":http://storage.ning.com/topology/rest/1.0/
 file/get/2286643635?profile=original
ATTENDEE;ROLE=REQ-PARTICIPANT;PARTSTAT=ACCEPTED;RSVP=TRUE;CN="Michael 
 Morrongiello":https://realty411mag.com/profile/MichaelMorrongiello
ATTENDEE;ROLE=REQ-PARTICIPANT;PARTSTAT=ACCEPTED;RSVP=TRUE;CN="Realty41
 1 Magazine":https://realty411mag.com/profile/Realty411Magazine
END:VEVENT
END:VCALENDAR
