BEGIN:VCALENDAR
PRODID:NingEventWidget-v1
VERSION:2.0
METHOD:PUBLISH
BEGIN:VTIMEZONE
TZID:America/Los_Angeles
X-LIC-LOCATION:America/Los_Angeles
BEGIN:DAYLIGHT
TZOFFSETFROM:-0800
TZOFFSETTO:-0700
TZNAME:PDT
DTSTART:19700308T020000
RRULE:FREQ=YEARLY;BYMONTH=3;BYDAY=2SU
END:DAYLIGHT
BEGIN:STANDARD
TZOFFSETFROM:-0700
TZOFFSETTO:-0800
TZNAME:PST
DTSTART:19701101T020000
RRULE:FREQ=YEARLY;BYMONTH=11;BYDAY=1SU
END:STANDARD
END:VTIMEZONE
BEGIN:VEVENT
UID:5727801:Event:115
DTSTAMP:20260421T095921Z
SUMMARY:OCG Properties & Realty411 Magazine Present....
DESCRIPTION:OCG Properties & Realty411 Magazine Present\n\nA Summer We
 alth Summit for Investors of Real Estate\n\nThe Perfect Event for Thos
 e Interested in Growing their Wealth through REAL ESTATE!\n\nRSVP HERE
 : \nhttp://summerwealthsummit2010.eventbrite.com\n\n* Don't Miss this 
 FREE Educational Event * PRICELESS Information!\n\nMINGLE WITH VENDORS
 !! MEET THE GURUS ONE ON ONE!!\n\nFree Event to Get You Started for SU
 $$ESS! Highlights Include:\n\n* Profit Out of State by Owning Cash Flo
 wing Rental Properties - A Stress-Free method presented by Mathew Owen
 s, CPA, of OCG Properties, Inc.\n\n* How to Take Advantage of the Curr
 ent Distressed Market by Wholesaling! Taught by Ginger Macias of OC Wh
 olesalers.\n\n* Find it, Bind it and Assign It with Black Belt Investo
 rs!\n\nSpecial Guests: Charles Salisbury, Mike Wood, Ellis San Jose, a
 nd Amanda Hahn!\n\nRSVP HERE:\nhttp://summerwealthsummit2010.eventbrit
 e.com\n\nMORE SPEAKERS TO BE ANNOUNCED!!\n\nGUESTS RECEIVE FREE BOOKS,
  DVDs MORE!\n\nPLUS, Tips to Skyrocket Your Mindset & Portfolio!\n\n* 
 LIMITED SPACE! ** MUST RESERVE SEAT IN ADVANCE *\n\nNEED MORE INFORMAT
 ION? CALL US FOR THE 411~\nRealty411 Magazine: 310.499.9545\nemail: re
 alty411guide@msn.com | http://www.Realty411Guide.com\n\nFor more infor
 mation visit https://realty411mag.com/events/ocg-properties-realty411
DTSTART;TZID=America/Los_Angeles:20100619T080000
DTEND;TZID=America/Los_Angeles:20100619T160000
CATEGORIES:rei, education, networking, and, "celebaration!"
LOCATION:Los Angeles Meeting & Event Center
WEBSITE:http://summerwealthsummit2010.eventbrite.com/
URL:http://summerwealthsummit2010.eventbrite.com/
CONTACT:310.499.9545
ORGANIZER;CN="Realty411 Magazine":https://realty411mag.com/profile/Rea
 lty411Magazine
ATTACH;FMTTYPE="image/jpeg":http://storage.ning.com/topology/rest/1.0/
 file/get/2052998676?profile=original
ATTENDEE;ROLE=REQ-PARTICIPANT;PARTSTAT=ACCEPTED;RSVP=TRUE;CN="Victor A
 rbuzow":https://realty411mag.com/profile/VictorArbuzow
ATTENDEE;ROLE=REQ-PARTICIPANT;PARTSTAT=ACCEPTED;RSVP=TRUE;CN="David Co
 e":https://realty411mag.com/profile/DavidCoe
ATTENDEE;ROLE=REQ-PARTICIPANT;PARTSTAT=ACCEPTED;RSVP=TRUE;CN="ben tjoa
 ":https://realty411mag.com/profile/bentjoa
ATTENDEE;ROLE=REQ-PARTICIPANT;PARTSTAT=ACCEPTED;RSVP=TRUE;CN="Realty41
 1 Magazine":https://realty411mag.com/profile/Realty411Magazine
END:VEVENT
END:VCALENDAR
