BEGIN:VCALENDAR
PRODID:NingEventWidget-v1
VERSION:2.0
METHOD:PUBLISH
BEGIN:VTIMEZONE
TZID:America/Los_Angeles
X-LIC-LOCATION:America/Los_Angeles
BEGIN:DAYLIGHT
TZOFFSETFROM:-0800
TZOFFSETTO:-0700
TZNAME:PDT
DTSTART:19700308T020000
RRULE:FREQ=YEARLY;BYMONTH=3;BYDAY=2SU
END:DAYLIGHT
BEGIN:STANDARD
TZOFFSETFROM:-0700
TZOFFSETTO:-0800
TZNAME:PST
DTSTART:19701101T020000
RRULE:FREQ=YEARLY;BYMONTH=11;BYDAY=1SU
END:STANDARD
END:VTIMEZONE
BEGIN:VEVENT
UID:5727801:Event:60706
DTSTAMP:20260421T083252Z
SUMMARY:REALTY411 Wealth Summit in Newport Beach
DESCRIPTION:Are you ready to Grow Your Real Estate Business, Portfolio
  and Network?\r\n\r\nJoin Realty411 and Sunset Equity Group as they de
 liver an amazing day of networking, education, deal-flow and success. 
 Surround yourself with the Movers and Shakers of California real estat
 e here.\r\nOur special day begins with a VIP continental breakfast at 
 9 am. Advance tickets can be purchased for only $27. Enjoy direct acce
 ss with the leaders of Sunset Equity, Realty411, and other sponsors.\r
 \n* Mingle with OUR TOP VIP Sponsors* Meet Local & Out of Area Investo
 rs* NON-Stop Tips for Real Estate Success* Bring Lots of Business Card
 s* Mingle with Leaders & Industry Professionals!\r\nJOIN US FOR 1 SPEC
 IAL DAY OF NETWORKING & MOTIVATION – TAKE YOUR REAL ESTATE KNOWLEDGE
  TO A WHOLE NEW LEVEL.\r\nDon’t miss our complimentary real estate i
 nvestor WEALTH SUMMIT hosted and sponsored by SUNSET EQUITY and Realty
 411.\r\nSunset Equity is a leader in private lending, based in Souther
 n California. Their unique funding options have elevated the company t
 o be one of the fastest-growing financial businesses serving the inves
 tment industry.\r\nRealty411 has been providing the resources investor
 s need to be successful since 2007. \r\n\r\n>>> Our WEALTH SUMMIT IN N
 EWPORT BEACH, at the exclusive and lavish bay-side Balboa Beach Resort
  offers exclusive advantages, such as:\r\nGuests receive life-changing
  knowledge from REAL investors \r\n Discover the latest technology to 
 expand your income \r\n Meet other investors with common goals and min
 dsets \r\n Develop relationships with leaders in the industry \r\n Sha
 re new opportunities with potential clients \r\n Learn how to help and
  mentor newer investors \r\n Save money with offers and wealth-buildin
 g ideas \r\nWe have owned local and national rentals for over two deca
 des \r\nWe strive to share life-changing information unavailable anywh
 ere \r\n Hosting complimentary networking events is how we “Give Bac
 k”\r\nOther events charge hundreds of dollars, but this day is PRICE
 LESS We strive to motivate others and help them acquire resources for 
 success.\r\nWe know your time is VALUABLE. In fact, time is the most v
 aluable asset we have. We can always make more money; however, we cann
 ot add more time to our life!\r\nHosted by Sunset Equity and Realty411
 .com\r\n Contact Us to Speak at or Sponsor this Event: 805.693.1497\r\
 nAll Guests Receive Our California-owned magazines, including: Realty4
 11 (or alternate cover, Real Estate WEALTH), PLUS, a DOWNLOAD of Our d
 igital REI Wealth Monthly\r\nREMEMBER: Your Net Worth = Your Network\r
 \nNOT IN CALIFORNIA? We host events nationwide, so be sure to join our
  VIP Network to be invited to events around the nation and have an opp
 ortunity to meet us: http://Realty411mag.com\n\nFor more information v
 isit https://realty411mag.com/events/newport
DTSTART;TZID=America/Los_Angeles:20190608T090000
DTEND;TZID=America/Los_Angeles:20190608T170000
CATEGORIES:real, estate, wealth, summit, -, newport, beach
LOCATION:Balboa Bay Resort
WEBSITE:https://realty411expo.com/events/newportbeach/
URL:https://realty411expo.com/events/newportbeach/
CONTACT:805.693.1497
ORGANIZER;CN="Realty411 Magazine":https://realty411mag.com/profile/Rea
 lty411Magazine
ATTACH;FMTTYPE="image/jpeg":https://storage.ning.com/topology/rest/1.0
 /file/get/2663278590?profile=original
ATTENDEE;ROLE=REQ-PARTICIPANT;PARTSTAT=ACCEPTED;RSVP=TRUE;CN="Realty41
 1 Magazine":https://realty411mag.com/profile/Realty411Magazine
END:VEVENT
END:VCALENDAR
