BEGIN:VCALENDAR
PRODID:NingEventWidget-v1
VERSION:2.0
METHOD:PUBLISH
BEGIN:VTIMEZONE
TZID:America/Los_Angeles
X-LIC-LOCATION:America/Los_Angeles
BEGIN:DAYLIGHT
TZOFFSETFROM:-0800
TZOFFSETTO:-0700
TZNAME:PDT
DTSTART:19700308T020000
RRULE:FREQ=YEARLY;BYMONTH=3;BYDAY=2SU
END:DAYLIGHT
BEGIN:STANDARD
TZOFFSETFROM:-0700
TZOFFSETTO:-0800
TZNAME:PST
DTSTART:19701101T020000
RRULE:FREQ=YEARLY;BYMONTH=11;BYDAY=1SU
END:STANDARD
END:VTIMEZONE
BEGIN:VEVENT
UID:5727801:Event:27129
DTSTAMP:20260421T101522Z
SUMMARY:Nest Egg November Syndication Social @ Lady Landlords of San D
 iego! (LLoSD)
DESCRIPTION:This month at The Lady Landlords of San Diego’s monthly 
 meeting… Cheryl Gollnick California’s most experienced SYNDICATION
  LADY~\nHave you heard the term SYNDICATION on the real estate investm
 ent scene? Are you intrigued by the prospects of flipping, renovating,
  owning, or brokering a large commercial real estate deal? Have you ev
 er driven pass that 50+ unit distressed asset and thought, “if only 
 I had the money?” Well you DO NOT want to miss this month’s speake
 r at LLoSD!\n Located out of Southern California, Cheryl Gollnick, is 
 a structured commercial finance specialist, and she is coming to grace
  our stage with her unique knowledge and presence. For the past 7 year
 s, Cheryl has brokered, financed and purchased large commercial assets
  including, strip malls, apartment complexes, flagged hotels, self sto
 rage facilities and factories throughout the United States. Cheryl has
  been a nationwide real estate investor for over 12 years, and she cur
 rently mentors investors through the commercial real estate market. He
 r training has taught many how to purchase distressed assets at below 
 market prices from private sellers and banks needing to liquidate the 
 assets, using little or none of the investor's own money, through, syn
 dication. For one night only, you can catch her explaining this indust
 ry in laymen’s terms, so everyone has a chance to get involved!\n As
  the owner of RE Capital Private Lender's Network, Cheryl is your tick
 et to funding large commercial deals anywhere in the United States. He
 r company RE Capital Private Lender’s Network pools money from Indiv
 idual Investors, IRA's, Trusts, Pension Plans, LLC's, and Corporations
  to fund commercial deals that meet the necessary criteria. This month
  at LLoSD, come find out what the elusive and strict underwriting guid
 elines are to get a commercial deal done.\n On November 27th, Southern
  California’s most experienced SYNDICATION LADY will be sharing her 
 secrets to success in the commercial real estate world. Come learn:\n 
 • To use Gap/Bridge funding to close a deal within weeks. • What i
 s needed to get a commercial loan? • How to refinance a large commer
 cial loan? • What to do when you identify a commercial asset worth i
 nvesting in. • How to gain access to funding for the purchase of a c
 ommercial property. • What requirements are needed from the asset to
  get a bridge loan? • What types of properties are eligible for comm
 ercial syndication deal? Learn more about our speaker at:\nhttp://www.
 recapitalnetwork.com/ Linkedin and at Ladylandlords.com\n Please bring
  your questions and scenarios. This will be an interactive Q&A session
 , an opportunity for you to get \"real\" with one of California’s mo
 st successful real estate investors.\nJoin us for an evening bash with
  wine, music, education, deal sharing and real estate strategy session
 s. We have created a fun, relaxed environment where women can inquire,
  share, and bounce around creative ideas to address the 3 Ts. (TOILETS
 , TENANTS, & TRASH).\nAs property owners, we all face similar challeng
 es, and goals no matter the region. Experienced and inexperienced REAL
  ESTATE investors with rental property in CA or out of state are welco
 med. This group is for women and the GENTLEMEN who love them! Come one
  come all, it's Pau Hana Time!\nREFRESHMENTS WILL BE SERVED!!\nThis ev
 ent like all of our events is wheelchair accessible. Admission/Door fe
 e : $20.00 $15.00 if prepaid (meetup.com/website)\n\nFor more informat
 ion visit https://realty411mag.com/events/nest-egg-november-syndicatio
 n-social-lady-landlords-of-san-diego
DTSTART;TZID=America/Los_Angeles:20121127T183000
DTEND;TZID=America/Los_Angeles:20121127T210000
CATEGORIES:educational, event
LOCATION:Holiday Inn Murphy Canyon
WEBSITE:http://www.meetup.com/Lady-Landlords-of-San-Diego/events/90086
 242/
URL:http://www.meetup.com/Lady-Landlords-of-San-Diego/events/90086242/
CONTACT:(760) 896-4808
ORGANIZER;CN="Lady Landlords of San Diego":https://realty411mag.com/pr
 ofile/MsJasmineRWillois
ATTACH;FMTTYPE="image/jpeg":http://storage.ning.com/topology/rest/1.0/
 file/get/2286636619?profile=original
ATTENDEE;ROLE=REQ-PARTICIPANT;PARTSTAT=ACCEPTED;RSVP=TRUE;CN="Lady Lan
 dlords of San Diego":https://realty411mag.com/profile/MsJasmineRWilloi
 s
END:VEVENT
END:VCALENDAR
