BEGIN:VCALENDAR
PRODID:NingEventWidget-v1
VERSION:2.0
METHOD:PUBLISH
BEGIN:VTIMEZONE
TZID:America/Los_Angeles
X-LIC-LOCATION:America/Los_Angeles
BEGIN:DAYLIGHT
TZOFFSETFROM:-0800
TZOFFSETTO:-0700
TZNAME:PDT
DTSTART:19700308T020000
RRULE:FREQ=YEARLY;BYMONTH=3;BYDAY=2SU
END:DAYLIGHT
BEGIN:STANDARD
TZOFFSETFROM:-0700
TZOFFSETTO:-0800
TZNAME:PST
DTSTART:19701101T020000
RRULE:FREQ=YEARLY;BYMONTH=11;BYDAY=1SU
END:STANDARD
END:VTIMEZONE
BEGIN:VEVENT
UID:5727801:Event:598
DTSTAMP:20260421T100521Z
SUMMARY:Need Lines of Credit - Learn how we have raised Million$ in Ba
 nk Lines of Credit with one simple Bank Book
DESCRIPTION:The owners of MemphisInvest.com have been investing around
  the country since the mid 1980's and have spent years perfecting the 
 art of building relationships and leveraging those relationships to pr
 omote business.\n\nJoin Chris Clothier for a special one-hour presenta
 tion outlining the biggest business builder they have used to develop 
 Bank Lines of Credit. This powerful tool will not only set you apart f
 rom every other bank customer looking for lines of credit, but will pu
 t you to the front of the line!\n\nhttps://www2.gotomeeting.com/regist
 er/694656051\n\n* copy the link above into your browser and register t
 oday!\n\nBest of All - It's content only!\n\n- No products to buy\n- J
 ust free content on how you can duplicate our success\n\nWe look forwa
 rd to meeting with you on the 16th and sharing with you our best tool 
 for building Bank Lines of Credit!\n\nFor more information visit https
 ://realty411mag.com/events/need-lines-of-credit-learn-1
DTSTART;TZID=America/Los_Angeles:20100516T190000
DTEND;TZID=America/Los_Angeles:20100516T200000
CATEGORIES:webinar, based, presentation
LOCATION:Online - Times listed are for Pacific TIme Zone
WEBSITE:https://www2.gotomeeting.com/register/694656051
URL:https://www2.gotomeeting.com/register/694656051
CONTACT:
ORGANIZER;CN="Chris D Clothier":https://realty411mag.com/profile/Chris
 DClothier
ATTACH;FMTTYPE="image/jpeg":
ATTENDEE;ROLE=REQ-PARTICIPANT;PARTSTAT=ACCEPTED;RSVP=TRUE;CN="Realty41
 1 Magazine":https://realty411mag.com/profile/Realty411Magazine
ATTENDEE;ROLE=REQ-PARTICIPANT;PARTSTAT=ACCEPTED;RSVP=TRUE;CN="Erica Re
 ynolds":https://realty411mag.com/profile/EricaReynolds
ATTENDEE;ROLE=REQ-PARTICIPANT;PARTSTAT=ACCEPTED;RSVP=TRUE;CN="Chris D 
 Clothier":https://realty411mag.com/profile/ChrisDClothier
END:VEVENT
END:VCALENDAR
