BEGIN:VCALENDAR
PRODID:NingEventWidget-v1
VERSION:2.0
METHOD:PUBLISH
BEGIN:VTIMEZONE
TZID:America/Los_Angeles
X-LIC-LOCATION:America/Los_Angeles
BEGIN:DAYLIGHT
TZOFFSETFROM:-0800
TZOFFSETTO:-0700
TZNAME:PDT
DTSTART:19700308T020000
RRULE:FREQ=YEARLY;BYMONTH=3;BYDAY=2SU
END:DAYLIGHT
BEGIN:STANDARD
TZOFFSETFROM:-0700
TZOFFSETTO:-0800
TZNAME:PST
DTSTART:19701101T020000
RRULE:FREQ=YEARLY;BYMONTH=11;BYDAY=1SU
END:STANDARD
END:VTIMEZONE
BEGIN:VEVENT
UID:5727801:Event:56972
DTSTAMP:20260421T100042Z
SUMMARY:Multifamily Show and Tell Workshop
DESCRIPTION:Join Neal Bawa for 60 minutes of the most eye opening (and
  potentially lucrative) real estate learning of your life.\nTHE \"DOUB
 LE IN 5\" METHOD Discover how multifamily experts consistently double 
 investor money in 5 years, and leverage their approach for your own in
 vestments.\nLOCATION MASTERY Real-time location analysis. Thousands of
  students have been amazed by the elegance and simplicity of Neal's ci
 ty and neighborhood picking method.\nPERSUASIVE FUND RAISING The most 
 influential charts and stats to show investors, proving the investment
  is lucrative (and have them asking to give you money before you even 
 ask.)\n------------------------------------------------- Saturday, Dec
 ember 15, 11:15 AM PST\nClick Here to Register: www.multifamilyu.com/s
 howandtell\n--------------------------------------------------\nWHAT T
 HE WORKSHOP WILL BE LIKE\n- Follow along as Neal performs a simple ser
 ies of high speed web demos that will allow you to become an expert on
  ANY city or ANY neighborhood in the U.S. in just 60 minutes flat.\n- 
 Neal will take you on a fascinating and eye opening map-driven journey
  through the U.S. where you will learn how to use critical metrics lik
 e household income, poverty level, and unemployment levels to select c
 ities and neighborhoods, in a graphical, simple to use way.\n- Watch i
 n amazement as Neal shows you the path of progress as it flows like a 
 river through a city, visually identifying the best investment locatio
 ns.\n- By the end of the workshop, you will be able to pull up any cit
 y in the U.S., and confidently pick the fast growing portions of the c
 ity, point out the path of progress, and outline the zero-growth (and 
 negative growth) areas of the city.\n- All demos will be performed usi
 ng free tools that you can access without a subscription.\nWHAT OTHERS
  SAY ABOUT NEAL'S TRAINING\n\"Neal's presentations are fantastic, alwa
 ys extremely informative, detailed and well organized. He is always ha
 ppy to share his knowledge and great tips with group members and this 
 is very helpful\" - Peter B\n\"Neal's presentation was filled with inv
 aluable information that is not readily available to the average inves
 tor. Many many hours of research must have gone into this presentation
 ! Thank you guys for sharing it with me!!” - Carlos Molina\n\"Super 
 Meetup event. Neal is an expert in real estate and rentals. He is the 
 best teacher I have met in the last 3 decades and he is willing to sha
 re his knowledge to all attendees, including some potential competitor
 s down the road. Thank you, Neal” - Eugene Sussli\n-----------------
 -------------------------------- Saturday, December 15, 11:15 AM PST\n
 Click Here to Register: www.multifamilyu.com/showandtell\n------------
 --------------------------------------\nEach workshop is limited to 30
  participants Please do not RSVP unless you are SURE that you are comi
 ng.\n\nFor more information visit https://realty411mag.com/events/mult
 ifamily-show-and-tell-workshop
DTSTART;TZID=America/Los_Angeles:20181215T180000
DTEND;TZID=America/Los_Angeles:20181215T190000
CATEGORIES:seminar
LOCATION:Panera Bread
WEBSITE:
URL:
CONTACT:
ORGANIZER;CN="Neal Bawa":https://realty411mag.com/profile/NealBawa
ATTACH;FMTTYPE="image/jpeg":https://storage.ning.com/topology/rest/1.0
 /file/get/184113996?profile=original
ATTENDEE;ROLE=REQ-PARTICIPANT;PARTSTAT=ACCEPTED;RSVP=TRUE;CN="Neal Baw
 a":https://realty411mag.com/profile/NealBawa
END:VEVENT
END:VCALENDAR
