BEGIN:VCALENDAR
PRODID:NingEventWidget-v1
VERSION:2.0
METHOD:PUBLISH
BEGIN:VTIMEZONE
TZID:America/Los_Angeles
X-LIC-LOCATION:America/Los_Angeles
BEGIN:DAYLIGHT
TZOFFSETFROM:-0800
TZOFFSETTO:-0700
TZNAME:PDT
DTSTART:19700308T020000
RRULE:FREQ=YEARLY;BYMONTH=3;BYDAY=2SU
END:DAYLIGHT
BEGIN:STANDARD
TZOFFSETFROM:-0700
TZOFFSETTO:-0800
TZNAME:PST
DTSTART:19701101T020000
RRULE:FREQ=YEARLY;BYMONTH=11;BYDAY=1SU
END:STANDARD
END:VTIMEZONE
BEGIN:VEVENT
UID:5727801:Event:60742
DTSTAMP:20260421T113532Z
SUMMARY:Multifamily Show and Tell Workshop
DESCRIPTION:Join Neal Bawa for 60 minutes of the most eye opening (and
  potentially lucrative) real estate learning of your life.\nTHE \"DOUB
 LE IN 5\" METHOD Discover how multifamily experts consistently double 
 investor money in 5 years, and leverage their approach for your own in
 vestments.\nLOCATION MASTERY Real-time location analysis. Thousands of
  students have been amazed by the elegance and simplicity of Neal's ci
 ty and neighborhood picking method.\nPERSUASIVE FUND RAISING The most 
 influential charts and stats to show investors, proving the investment
  is lucrative (and have them asking to give you money before you even 
 ask.)\n---------------------------------------------------------------
 ----------\nSaturday, June 15, 11:15 AM PST\nRegister here: https://mu
 ltifamilyu.com/showandtell\n------------------------------------------
 -------------------------------\nWHAT THE WORKSHOP WILL BE LIKE\n- Fol
 low along as Neal performs a simple series of high speed web demos tha
 t will allow you to become an expert on ANY city or ANY neighborhood i
 n the U.S. in just 60 minutes flat.\n- Neal will take you on a fascina
 ting and eye opening map-driven journey through the U.S. where you wil
 l learn how to use critical metrics like household income, poverty lev
 el, and unemployment levels to select cities and neighborhoods, in a g
 raphical, simple to use way.\n- Watch in amazement as Neal shows you t
 he path of progress as it flows like a river through a city, visually 
 identifying the best investment locations.\n- By the end of the worksh
 op, you will be able to pull up any city in the U.S., and confidently 
 pick the fast growing portions of the city, point out the path of prog
 ress, and outline the zero-growth (and negative growth) areas of the c
 ity.\n- All demos will be performed using free tools that you can acce
 ss without a subscription.\nWHAT OTHERS SAY ABOUT NEAL'S TRAINING\n\"N
 eal's presentations are fantastic, always extremely informative, detai
 led and well organized. He is always happy to share his knowledge and 
 great tips with group members and this is very helpful\" - Peter B\n\"
 Neal's presentation was filled with invaluable information that is not
  readily available to the average investor. Many many hours of researc
 h must have gone into this presentation! Thank you guys for sharing it
  with me!!” - Carlos Molina\n\"Super Meetup event. Neal is an expert
  in real estate and rentals. He is the best teacher I have met in the 
 last 3 decades and he is willing to share his knowledge to all ttendee
 s, including some potential competitors down the road. Thank you, Neal
 ” - Eugene Sussli\n-------------------------------------------------
 ------------------------\nSaturday, June 15, 11:15 AM PST\nRegister he
 re: https://multifamilyu.com/showandtell\n----------------------------
 ---------------------------------------------\nEach workshop is limite
 d to 30 participants\nPlease do not RSVP unless you are SURE that you 
 are coming.\n\nFor more information visit https://realty411mag.com/eve
 nts/multifamily-show-and-tell-workshop-2
DTSTART;TZID=America/Los_Angeles:20190615T111500
DTEND;TZID=America/Los_Angeles:20190615T131500
CATEGORIES:workshop
LOCATION:4th Floor
WEBSITE:https://multifamilyu.com/showandtell
URL:https://multifamilyu.com/showandtell
CONTACT:
ORGANIZER;CN="Neal Bawa":https://realty411mag.com/profile/NealBawa
ATTACH;FMTTYPE="image/jpeg":https://storage.ning.com/topology/rest/1.0
 /file/get/2226284646?profile=original
ATTENDEE;ROLE=REQ-PARTICIPANT;PARTSTAT=ACCEPTED;RSVP=TRUE;CN="Neal Baw
 a":https://realty411mag.com/profile/NealBawa
END:VEVENT
END:VCALENDAR
