BEGIN:VCALENDAR
PRODID:NingEventWidget-v1
VERSION:2.0
METHOD:PUBLISH
BEGIN:VTIMEZONE
TZID:America/Los_Angeles
X-LIC-LOCATION:America/Los_Angeles
BEGIN:DAYLIGHT
TZOFFSETFROM:-0800
TZOFFSETTO:-0700
TZNAME:PDT
DTSTART:19700308T020000
RRULE:FREQ=YEARLY;BYMONTH=3;BYDAY=2SU
END:DAYLIGHT
BEGIN:STANDARD
TZOFFSETFROM:-0700
TZOFFSETTO:-0800
TZNAME:PST
DTSTART:19701101T020000
RRULE:FREQ=YEARLY;BYMONTH=11;BYDAY=1SU
END:STANDARD
END:VTIMEZONE
BEGIN:VEVENT
UID:5727801:Event:60266
DTSTAMP:20260421T100813Z
SUMMARY:Multifamily Fundamentals Webinar - Awesome intro to apartments
DESCRIPTION:\nInterested? Click the link below and register. Gotowebin
 ar will remind you before the event.Tuesday, June 4, 2019 at 6 PM PSTh
 ttps://attendee.gotowebinar.com/register/4863314044491772419\n\nJean-M
 arc Landau, Host\n\nFor more information visit https://realty411mag.co
 m/events/multifamily-fundamentals-webinar-awesome-intro-to-apartments-
 3
DTSTART;TZID=America/Los_Angeles:20190604T180000
DTEND;TZID=America/Los_Angeles:20190604T190000
CATEGORIES:webinar
LOCATION:https://attendee.gotowebinar.com/register/4863314044491772419
WEBSITE:https://attendee.gotowebinar.com/register/4863314044491772419
URL:https://attendee.gotowebinar.com/register/4863314044491772419
CONTACT:
ORGANIZER;CN="Jean-Marc Landau":https://realty411mag.com/profile/JeanM
 arcLandau
ATTACH;FMTTYPE="image/jpeg":https://storage.ning.com/topology/rest/1.0
 /file/get/2467282261?profile=original
ATTENDEE;ROLE=REQ-PARTICIPANT;PARTSTAT=ACCEPTED;RSVP=TRUE;CN="Jean-Mar
 c Landau":https://realty411mag.com/profile/JeanMarcLandau
END:VEVENT
END:VCALENDAR
