BEGIN:VCALENDAR
PRODID:NingEventWidget-v1
VERSION:2.0
METHOD:PUBLISH
BEGIN:VTIMEZONE
TZID:America/Los_Angeles
X-LIC-LOCATION:America/Los_Angeles
BEGIN:DAYLIGHT
TZOFFSETFROM:-0800
TZOFFSETTO:-0700
TZNAME:PDT
DTSTART:19700308T020000
RRULE:FREQ=YEARLY;BYMONTH=3;BYDAY=2SU
END:DAYLIGHT
BEGIN:STANDARD
TZOFFSETFROM:-0700
TZOFFSETTO:-0800
TZNAME:PST
DTSTART:19701101T020000
RRULE:FREQ=YEARLY;BYMONTH=11;BYDAY=1SU
END:STANDARD
END:VTIMEZONE
BEGIN:VEVENT
UID:5727801:Event:57928
DTSTAMP:20260421T100814Z
SUMMARY:Multifamily Fundamentals Webinar- Awesome intro to apartments
DESCRIPTION:**** IMPORTANT *** MUST USE GOTOWEBINAR LINKS BELOW TO REG
 ISTER, DO NOT JUST CLICK THE REGULAR RSVP BUTTON***\nFor new members, 
 the Multifamily Fundamentals webinar is, unquestionably, the best plac
 e to start their apartment investing journey. This is NOT your average
  boring sales pitchy webinar. This POWERHOUSE training is all content,
  no fluff. Expect to be entertained and educated. Expect many 'wow' mo
 ments. Expect to say \"this is how all webinars should be\". Taught on
 line every month on the first Tuesday of the month at 6 PM, the Multif
 amily Fundamentals webinar will give you the foundation you need to de
 velop your multifamily skills. Scroll to the bottom of this listing fo
 r the event description.\nInterested? Click the right date below and r
 egister. Gotowebinar will remind you before the event.\n==============
 =================================================== Tuesday, February 
 5, 2019 at 6 PM PST\nhttps://attendee.gotowebinar.com/register/4286012
 165686372609\n========================================================
 =========\nWhat you will learn: - basics of why multi family is such a
  powerful investing tool\n- Why a $25 rent increase in a 200 unit apar
 tment complex increases your net worth by $750,000\n- Single family vs
  multifamily – Pros and cons\n- Lessons and strategies from past exp
 erience\n- How to identify emerging metros and find quality apartment 
 complexes\n- How to purchase these buildings in a group, without havin
 g to put in millions of dollars\n- Why single family is a job and mult
 ifamily is an investment\n- California vs other states: which is bette
 r?\n- What kind of returns can you expect, and the timeframe?\n- Macro
  market trends supporting Multifamily investing\n- Why Multifamily pri
 ces tend to be less volatile than single family prices\nJean-Marc Land
 au, Host Financial Attunement, Inc.\nwww.finatt.com\n\nFor more inform
 ation visit https://realty411mag.com/events/multifamily-fundamentals-w
 ebinar-awesome-intro-to-apartments-2
DTSTART;TZID=America/Los_Angeles:20190205T180000
DTEND;TZID=America/Los_Angeles:20190205T190000
CATEGORIES:seminar
LOCATION:ONLINE
WEBSITE:https://attendee.gotowebinar.com/register/4286012165686372609
URL:https://attendee.gotowebinar.com/register/4286012165686372609
CONTACT:
ORGANIZER;CN="Jean-Marc Landau":https://realty411mag.com/profile/JeanM
 arcLandau
ATTACH;FMTTYPE="image/jpeg":https://storage.ning.com/topology/rest/1.0
 /file/get/679384166?profile=original
ATTENDEE;ROLE=REQ-PARTICIPANT;PARTSTAT=ACCEPTED;RSVP=TRUE;CN="Jean-Mar
 c Landau":https://realty411mag.com/profile/JeanMarcLandau
END:VEVENT
END:VCALENDAR
