BEGIN:VCALENDAR
PRODID:NingEventWidget-v1
VERSION:2.0
METHOD:PUBLISH
BEGIN:VTIMEZONE
TZID:America/Los_Angeles
X-LIC-LOCATION:America/Los_Angeles
BEGIN:DAYLIGHT
TZOFFSETFROM:-0800
TZOFFSETTO:-0700
TZNAME:PDT
DTSTART:19700308T020000
RRULE:FREQ=YEARLY;BYMONTH=3;BYDAY=2SU
END:DAYLIGHT
BEGIN:STANDARD
TZOFFSETFROM:-0700
TZOFFSETTO:-0800
TZNAME:PST
DTSTART:19701101T020000
RRULE:FREQ=YEARLY;BYMONTH=11;BYDAY=1SU
END:STANDARD
END:VTIMEZONE
BEGIN:VEVENT
UID:5727801:Event:57053
DTSTAMP:20260421T100813Z
SUMMARY:Multifamily Fundamentals Webinar - Awesome intro to apartments
DESCRIPTION:**** IMPORTANT *** MUST USE GOTOWEBINAR LINKS BELOW TO REG
 ISTER, DO NOT JUST CLICK THE REGULAR RSVP BUTTON***\nFor new members, 
 the Multifamily Fundamentals webinar is, unquestionably, the best plac
 e to start their apartment investing journey. This is NOT your average
  boring sales pitchy webinar. This POWERHOUSE training is all content,
  no fluff. Expect to be entertained and educated. Expect many 'wow' mo
 ments. Expect to say \"this is how all webinars should be\". Taught on
 line every month on the first Tuesday of the month at 6 PM, the Multif
 amily Fundamentals webinar will give you the foundation you need to de
 velop your multifamily skills. Scroll to the bottom of this listing fo
 r the event description.\nInterested? Click the link below and registe
 r. Gotowebinar will remind you before the event.\n====================
 ============================= Tuesday, December 4, 2018 at 6 PM to 7 P
 M PST\nhttps://attendee.gotowebinar.com/register/3312427604639548417 =
 ================================================\nWhat you will learn:
 \n- basics of why multi family is such a powerful investing tool - Why
  a $25 rent increase in a 200 unit apartment complex increases your ne
 t worth by $750,000\n- Single family vs multifamily – Pros and cons\
 n- Lessons and strategies from past experience\n- How to identify emer
 ging metros and find quality apartment complexes\n- How to purchase th
 ese buildings in a group, without having to put in millions of dollars
 \n- Why single family is a job and multifamily is an investment\n- Cal
 ifornia vs other states: which is better?\n- What kind of returns can 
 you expect, and the timeframe?\n- Macro market trends supporting Multi
 family investing\n- Why Multifamily prices tend to be less volatile th
 an single family prices\nJean-Marc Landau, Host\n\nFor more informatio
 n visit https://realty411mag.com/events/multifamily-fundamentals-webin
 ar-awesome-intro-to-apartments-1
DTSTART;TZID=America/Los_Angeles:20181204T180000
DTEND;TZID=America/Los_Angeles:20181204T190000
CATEGORIES:seminar
LOCATION:ONLINE
WEBSITE:
URL:
CONTACT:
ORGANIZER;CN="Jean-Marc Landau":https://realty411mag.com/profile/JeanM
 arcLandau
ATTACH;FMTTYPE="image/jpeg":http://storage.ning.com/topology/rest/1.0/
 file/get/2286646794?profile=original
ATTENDEE;ROLE=REQ-PARTICIPANT;PARTSTAT=ACCEPTED;RSVP=TRUE;CN="Jean-Mar
 c Landau":https://realty411mag.com/profile/JeanMarcLandau
END:VEVENT
END:VCALENDAR
