BEGIN:VCALENDAR
PRODID:NingEventWidget-v1
VERSION:2.0
METHOD:PUBLISH
BEGIN:VTIMEZONE
TZID:America/Los_Angeles
X-LIC-LOCATION:America/Los_Angeles
BEGIN:DAYLIGHT
TZOFFSETFROM:-0800
TZOFFSETTO:-0700
TZNAME:PDT
DTSTART:19700308T020000
RRULE:FREQ=YEARLY;BYMONTH=3;BYDAY=2SU
END:DAYLIGHT
BEGIN:STANDARD
TZOFFSETFROM:-0700
TZOFFSETTO:-0800
TZNAME:PST
DTSTART:19701101T020000
RRULE:FREQ=YEARLY;BYMONTH=11;BYDAY=1SU
END:STANDARD
END:VTIMEZONE
BEGIN:VEVENT
UID:5727801:Event:58003
DTSTAMP:20260421T130946Z
SUMMARY:Multifamily Fundamentals: Discover how you can invest smarter 
 and with less hassle, while building a tax-advantaged financial fortre
 ss
DESCRIPTION:Join me for an eye-opening, jaw dropping, fact-based prese
 ntation as I expose the harsh reality typical investors will likely fa
 ce in the near future. Then we'll dive into the wonderful world of mul
 tifamily where you'll discover how actively or passively investing in 
 apartment buildings could be a game changer for you.\nThe Multifamily 
 Fundamentals webinar is, unquestionably, the best place to start their
  apartment investing journey. This is NOT your average boring sales pi
 tchy webinar. This POWERHOUSE training is all content, no fluff. Expec
 t to be entertained and educated. Expect many 'wow' moments. Expect to
  say \"this is how all webinars should be\". The Multifamily Fundament
 als webinar will give you the foundation you need to develop your mult
 ifamily skills.\nInterested? Click the link below and register. [You'l
 l receive an email reminder before the event]\n=======================
 ============== Tuesday, January 8, 2018 at 6:00 PM PST\nhttp://multifa
 milyu.com/fundamentals?ref=realty411&campaign=mff-webinar-ad\n========
 =============================\n**If you cannot attend live, just regis
 ter using the link above and we will be happy to send you a recording 
 of the event later.\nWHAT YOU WILL LEARN IN THIS ACCELERATED HOUR OF M
 ULTIFAMILY TRAINING:\n- The pros and cons of single family vs multifam
 ily (and which is best for you) - Macroeconomic trends and whether it 
 is a good time to buy multifamily (including a huge mega-factor trend 
 no one is talking about)\n- The best way to buy high cash flowing apar
 tment buildings without putting millions down\n- How a small increase 
 of $25 in rent increases your net worth by $750,000\n- Simple steps fo
 r identifying emerging metros and confidently buying quality apartment
  complexes (including whether to invest in CA)\n- Important lessons an
 d strategies learned by purchasing over 1,000 units in 7 states with a
  value over $70 million\n- How much cashflow and appreciation you shou
 ld expect, and how much (or little) of your time is required\n- A step
 -by-step walk through of the lifecycle of a multifamily project, from 
 beginning to end, with valuable tips for each phase\n- The risk to you
 r financial future of only investing in traditional investments such a
 s stocks and bonds, and what you must do to get ahead\n\"Wow! The thor
 oughness of the presentation was exceptional. Regardless of where you 
 ae in your real estate investing career, you would have learned someth
 ing at this presentation. I left knowing how to better analyze markets
 , which will leave me making smarter and more profitable investments! 
 Thank you.\" - Leslie Plettner\n===================================== 
 Tuesday, January 8, 2018 at 6:00 PM PST\nhttp://multifamilyu.com/funda
 mentals?ref=realty411&campaign=mff-webinar-ad\n=======================
 ==============\n**If you cannot attend live, just register using the l
 ink above and we will be happy to send you a recording of the event la
 ter.\n\nFor more information visit https://realty411mag.com/events/mul
 tifamily-fundamentals-discover-how-you-can-invest-smarter-and
DTSTART;TZID=America/Los_Angeles:20190108T180000
DTEND;TZID=America/Los_Angeles:20190108T190000
CATEGORIES:online, webinar
LOCATION:http://multifamilyu.com/fundamentals?ref=realty411&amp;campai
 gn=mff-webinar-ad
WEBSITE:http://multifamilyu.com/fundamentals?ref=realty411&amp;amp;cam
 paign=mff-webinar-ad
URL:http://multifamilyu.com/fundamentals?ref=realty411&amp;amp;campaig
 n=mff-webinar-ad
CONTACT:
ORGANIZER;CN="Neal Bawa":https://realty411mag.com/profile/NealBawa
ATTACH;FMTTYPE="image/jpeg":https://storage.ning.com/topology/rest/1.0
 /file/get/536117277?profile=original
ATTENDEE;ROLE=REQ-PARTICIPANT;PARTSTAT=ACCEPTED;RSVP=TRUE;CN="Neal Baw
 a":https://realty411mag.com/profile/NealBawa
END:VEVENT
END:VCALENDAR
