BEGIN:VCALENDAR
PRODID:NingEventWidget-v1
VERSION:2.0
METHOD:PUBLISH
BEGIN:VTIMEZONE
TZID:America/Los_Angeles
X-LIC-LOCATION:America/Los_Angeles
BEGIN:DAYLIGHT
TZOFFSETFROM:-0800
TZOFFSETTO:-0700
TZNAME:PDT
DTSTART:19700308T020000
RRULE:FREQ=YEARLY;BYMONTH=3;BYDAY=2SU
END:DAYLIGHT
BEGIN:STANDARD
TZOFFSETFROM:-0700
TZOFFSETTO:-0800
TZNAME:PST
DTSTART:19701101T020000
RRULE:FREQ=YEARLY;BYMONTH=11;BYDAY=1SU
END:STANDARD
END:VTIMEZONE
BEGIN:VEVENT
UID:5727801:Event:57850
DTSTAMP:20260422T063811Z
SUMMARY:Multifamily Fundamentals - Awesome Introduction to Apartments
DESCRIPTION:Join me for an eye-opening, jaw dropping, fact-based prese
 ntation as I expose the harsh reality typical investors will likely fa
 ce in the near future. Then we'll dive into the wonderful world of mul
 tifamily where you'll discover how actively or passively investing in 
 apartment buildings could be a game changer for you.\nThe Multifamily 
 Fundamentals is, unquestionably, the best place to start their apartme
 nt investing journey. This is NOT your average boring sales pitchy sem
 inar. This POWERHOUSE training is all content, no fluff. Expect to be 
 entertained and educated. Expect many 'wow' moments. Expect to say \"t
 his is how all seminars should be\". The Multifamily Fundamentals will
  give you the foundation you need to develop your multifamily skills.\
 n===================================== When: Tuesday, February 19, 201
 9 at 6:30 PM PST\nWhere: Harry's Hofbrau 1909 El Camino Real, Redwood 
 City, CA\nCLICK HERE TO RSVP: https://www.meetup.com/Apartment-Learnin
 g-Network-of-the-Peninsula/events/257376115/\n========================
 =============\nWHAT YOU WILL LEARN IN THIS ACCELERATED HOUR OF MULTIFA
 MILY TRAINING:\n- The pros and cons of single family vs multifamily (a
 nd which is best for you) - Macroeconomic trends and whether it is a g
 ood time to buy multifamily (including a huge mega-factor trend no one
  is talking about)\n- The best way to buy high cash flowing apartment 
 buildings without putting millions down\n- How a small increase of $25
  in rent increases your net worth by $750,000\n- Simple steps for iden
 tifying emerging metros and confidently buying quality apartment compl
 exes (including whether to invest in CA)\n- Important lessons and stra
 tegies learned by purchasing over 1,000 units in 7 states with a value
  over $70 million\n- How much cashflow and appreciation you should exp
 ect, and how much (or little) of your time is required\n- A step-by-st
 ep walk through of the lifecycle of a multifamily project, from beginn
 ing to end, with valuable tips for each phase\n- The risk to your fina
 ncial future of only investing in traditional investments such as stoc
 ks and bonds, and what you must do to get ahead\n\"Wow! The thoroughne
 ss of the presentation was exceptional. Regardless of where you ae in 
 your real estate investing career, you would have learned something at
  this presentation. I left knowing how to better analyze markets, whic
 h will leave me making smarter and more profitable investments! Thank 
 you.\" - Leslie Plettner\n===================================== When: 
 Tuesday, February 19, 2019 at 6:30 PM PST\nWhere: Harry's Hofbrau 1909
  El Camino Real, Redwood City, CA\nCLICK HERE TO RSVP: https://www.mee
 tup.com/Apartment-Learning-Network-of-the-Peninsula/events/257376115/\
 n=====================================\nMeet your Presenter:\nAnna Mye
 rs works very closely with Neal to underwrite properties and make offe
 rs for Neal’s clients. Her background as a software developer gives 
 her a distinct edge when it comes to data-rich financial analysis. She
  is a graduate of Neal’s Apartment Magic boot camp.\n\nFor more info
 rmation visit https://realty411mag.com/events/multifamily-fundamentals
 -awesome-introduction-to-apartments
DTSTART;TZID=America/Los_Angeles:20190219T183000
DTEND;TZID=America/Los_Angeles:20190219T203000
CATEGORIES:meetup
LOCATION:Harry's Hofbrau
WEBSITE:https://www.meetup.com/Apartment-Learning-Network-of-the-Penin
 sula/events/257376115/
URL:https://www.meetup.com/Apartment-Learning-Network-of-the-Peninsula
 /events/257376115/
CONTACT:
ORGANIZER:Anna Myers and Neal Bawa
ATTACH;FMTTYPE="image/jpeg":https://storage.ning.com/topology/rest/1.0
 /file/get/927844768?profile=original
ATTENDEE;ROLE=REQ-PARTICIPANT;PARTSTAT=ACCEPTED;RSVP=TRUE;CN="Neal Baw
 a":https://realty411mag.com/profile/NealBawa
END:VEVENT
END:VCALENDAR
